BEGIN:VCALENDAR
VERSION:2.0
PRODID:-//ChamberMaster//Event Calendar 2.0//EN
METHOD:PUBLISH
X-PUBLISHED-TTL:P3D
REFRESH-INTERVAL:P3D
CALSCALE:GREGORIAN
BEGIN:VEVENT
DTSTART:20221025T210000Z
DTEND:20221025T233000Z
X-MICROSOFT-CDO-ALLDAYEVENT:FALSE
SUMMARY:Funding Your Business
DESCRIPTION:The Venture Forum\, Center for Women & Enterprise and Business Development Lab at WPI are pleased to invite to attend on event on Funding your Business - a discussion on different sources of capital and what they are looking for and want in return. We have brought together a panel of experts to share their insights on what entrepreneurs need to consider when seeking funding. Panelists include:\n\nG?ordon Armstrong - CEO\, President and Founder of Strong Capital Markets\n\nPriya Yadav - Vice President\, Investments MassVentures\n\nS?usan Johnson - Senior Vice President Senior Commercial Lender/Team Leader Middlesex Savings Bank\n\nT?amas Javor - Senior Associate\, MassMutual Impact Venture Capital\n\nJ?ohn WIlliams - Angel Investor\, River Valley Investors\n\nDoors open at 5PM\, light food and drink will be served.\n\nA? special thanks to our Presenting Sponsors:\n\nM?iddlesex Savings Bank and ComputerVault
X-ALT-DESC;FMTTYPE=text/html:<p>The&nbsp\;<a href="https://www.theventureforum.org/" rel="nofollow noopener noreferrer" style="text-decoration-line: none\; color: var(--eds-control\,#3659e3)\; cursor: pointer\; background-color: transparent\; box-sizing: border-box\; padding-top: 0px\;" target="_blank"><strong>Venture Forum</strong></a><strong>\,&nbsp\;</strong><a href="https://www.cweonline.org/" rel="nofollow noopener noreferrer" style="text-decoration-line: none\; color: var(--eds-control\,#3659e3)\; cursor: pointer\; background-color: transparent\; box-sizing: border-box\;" target="_blank"><strong>Center for Women &amp\; Enterprise</strong></a><strong>&nbsp\;</strong>and<strong>&nbsp\;</strong><a href="https://www.wpi.edu/academics/business/business-development-lab" rel="nofollow noopener noreferrer" style="text-decoration-line: none\; color: var(--eds-control\,#3659e3)\; cursor: pointer\; background-color: transparent\; box-sizing: border-box\;" target="_blank"><strong>Business Development Lab at WPI</strong></a><strong>&nbsp\;</strong>are pleased to invite to attend on event on&nbsp\;<strong>Funding your Business -&nbsp\;</strong><em><strong>a discussion on different sources of capital and what they are looking for and want in return</strong></em><em>.&nbsp\;</em>We have brought together a panel of experts to share their insights on what entrepreneurs need to consider when seeking funding. Panelists include:</p>\n\n<p><a href="https://www.linkedin.com/in/gordon-armstrong-47701b11/" rel="nofollow noopener noreferrer" style="text-decoration-line: none\; color: var(--eds-control\,#3659e3)\; cursor: pointer\; background-color: transparent\; box-sizing: border-box\; padding-top: 0px\;" target="_blank"><strong>G?ordon Armstrong</strong></a><strong>&nbsp\;- CEO\, President and Founder of&nbsp\;</strong><a href="http://www.strongcapitalmarkets.com/" rel="nofollow noopener noreferrer" style="text-decoration-line: none\; color: var(--eds-control\,#3659e3)\; cursor: pointer\; background-color: transparent\; box-sizing: border-box\;" target="_blank"><strong>Strong Capital Markets</strong></a></p>\n\n<p><a href="https://www.linkedin.com/in/priyay/" rel="nofollow noopener noreferrer" style="text-decoration-line: none\; color: var(--eds-control\,#3659e3)\; cursor: pointer\; background-color: transparent\; box-sizing: border-box\; padding-top: 0px\;" target="_blank"><strong>Priya Yadav&nbsp\;</strong></a><strong>- Vice President\, Investments&nbsp\;</strong><a href="https://www.mass-ventures.com/" rel="nofollow noopener noreferrer" style="text-decoration-line: none\; color: var(--eds-control\,#3659e3)\; cursor: pointer\; background-color: transparent\; box-sizing: border-box\;" target="_blank"><strong>MassVentures</strong></a></p>\n\n<p><a href="https://www.linkedin.com/in/susan-johnson-9b835013/" rel="nofollow noopener noreferrer" style="text-decoration-line: none\; color: var(--eds-control\,#3659e3)\; cursor: pointer\; background-color: transparent\; box-sizing: border-box\; padding-top: 0px\;" target="_blank"><strong>S?usan Johnson</strong></a><strong>&nbsp\;- Senior Vice President Senior Commercial Lender/Team Leader&nbsp\;</strong><a href="https://www.middlesexbank.com/" rel="nofollow noopener noreferrer" style="text-decoration-line: none\; color: var(--eds-control\,#3659e3)\; cursor: pointer\; background-color: transparent\; box-sizing: border-box\;" target="_blank"><strong>Middlesex Savings Bank</strong></a></p>\n\n<p><a href="https://www.linkedin.com/in/tamasjavor/" rel="nofollow noopener noreferrer" style="text-decoration-line: none\; color: var(--eds-control\,#3659e3)\; cursor: pointer\; background-color: transparent\; box-sizing: border-box\; padding-top: 0px\;" target="_blank"><strong>T?amas Javor</strong></a><strong>&nbsp\;- Senior Associate\,&nbsp\;</strong><a href="https://www.massmutual.com/lp/catalyst" rel="nofollow noopener noreferrer" style="text-decoration-line: none\; color: var(--eds-control\,#3659e3)\; cursor: pointer\; background-color: transparent\; box-sizing: border-box\;" target="_blank"><strong>MassMutual Impact Venture Capital</strong></a></p>\n\n<p><a href="https://www.linkedin.com/search/results/all/?heroEntityKey=urn%3Ali%3Afsd_profile%3AACoAAAFEfMIBlnmuZE0CazWXZTMxp0OzTJkxRPU&amp\;keywords=john%20m.%20williams&amp\;origin=RICH_QUERY_TYPEAHEAD_HISTORY&amp\;position=0&amp\;searchId=97c22ab1-2780-4596-86ff-5a576eba62be&amp\;sid=~cA" rel="nofollow noopener noreferrer" style="text-decoration-line: none\; color: var(--eds-control\,#3659e3)\; cursor: pointer\; background-color: transparent\; box-sizing: border-box\; padding-top: 0px\;" target="_blank"><strong>J?ohn WIlliams</strong></a><strong>&nbsp\;- Angel Investor\,&nbsp\;</strong><a href="https://rivervalleyinvestors.com/" rel="nofollow noopener noreferrer" style="text-decoration-line: none\; color: var(--eds-control\,#3659e3)\; cursor: pointer\; background-color: transparent\; box-sizing: border-box\;" target="_blank"><strong>River Valley Investors</strong></a></p>\n\n<p>Doors open at 5PM\, light food and drink will be served.</p>\n\n<p><strong>A? special thanks to our Presenting Sponsors:</strong></p>\n\n<p><a href="https://www.middlesexbank.com/" rel="nofollow noopener noreferrer" style="text-decoration-line: none\; color: var(--eds-control\,#3659e3)\; cursor: pointer\; background-color: transparent\; box-sizing: border-box\; padding-top: 0px\;" target="_blank"><strong>M?iddlesex Savings Bank</strong></a><strong>&nbsp\;and&nbsp\;</strong><a href="https://www.computervault.com/" rel="nofollow noopener noreferrer" style="text-decoration-line: none\; color: var(--eds-control\,#3659e3)\; cursor: pointer\; background-color: transparent\; box-sizing: border-box\;" target="_blank"><strong>ComputerVault</strong></a></p>\n
LOCATION:Unum Building 1 Mercantile Street Worcester\, MA 01608
UID:e.2083.14754
SEQUENCE:3
DTSTAMP:20260421T141730Z
URL:https://business.cmschamber.org/events/details/funding-your-business-14754
END:VEVENT

END:VCALENDAR
