BEGIN:VCALENDAR
VERSION:2.0
PRODID:-//ChamberMaster//Event Calendar 2.0//EN
METHOD:PUBLISH
X-PUBLISHED-TTL:P3D
REFRESH-INTERVAL:P3D
CALSCALE:GREGORIAN
BEGIN:VEVENT
DTSTART:20200211T223000Z
DTEND:20200212T010000Z
X-MICROSOFT-CDO-ALLDAYEVENT:FALSE
SUMMARY:Future Jobs: Intrapreneurs & Entrepreneurs - Where Do You Fit: How Do You Do It!
DESCRIPTION:The Venture Forum\, \n\nTVF\, The City of Worcester\, most progressive businesses \,and communities are reaching out to build new future opportunities. The economy\, jobs\, and the world in which we live\, demand this outreach to accommodate our goals.\n\nTo get there\, intrapreneurship and entrepreneurship are critical ingredients for success. In this session\, The Venture Forum is bringing together leading\, hands-on\, company founders and leaders\, investors and advisors.\n\n\n	\n	They will revisit clear\, relevant understandings of intrapreneurship in practice today and demonstrate their practical meanings\,\n	\n	\n	Explore the resources needed to execute in today's world\, and\n	\n	\n	Identify the key factors necessary for success   and their value to us!\n	\n\n\nPresenters will answer the tough questions: How do you recognize people who are intrapreneurs or entrepreneurs in your company? What are the challenges to nurturing the culture and supporting this culture profitably? Describe men and women who have found success in these roles? Why can these I+E -preneurships be important in contemporary business success? HOW CAN YOU JOIN IN?
X-ALT-DESC;FMTTYPE=text/html:<p><span style="font-size:12px\;"><span style="font-family:arial\;">The Venture Forum\,&nbsp\;</span></span></p>\n\n<p font-size:="" open="" style="margin-top: 0px\;"><span style="font-size:12px\;"><span style="font-family:arial\;">TVF\, The City of Worcester\, most progressive businesses \,and communities are reaching out to build new future opportunities. The economy\, jobs\, and the world in which we live\, demand this outreach to accommodate our goals.</span></span></p>\n\n<p font-size:="" open="" style="margin-top: 0px\;"><span style="font-size:12px\;"><span style="font-family:arial\;">To get there\, intrapreneurship and entrepreneurship are critical ingredients for success. In this session\, The Venture Forum is bringing together leading\, hands-on\, company founders and leaders\, investors and advisors.</span></span></p>\n\n<ul 0px="" 1em="" list-style-image:="" list-style-position:="" margin:="" open="" padding-left:="" padding-right:="" style="color: rgb(55\, 55\, 55)\; font-variant-numeric: normal\; font-variant-east-asian: normal\; font-stretch: normal\; font-size: 14px\; line-height: normal\; font-family: ">\n	<li style="padding: 0px\; margin: 0.25em 0px\;">\n	<p><span style="font-size:12px\;"><span style="font-family:arial\;">T<font color="#333333">hey will revisit clear\, relevant understandings of intrapreneurship in practice today and demonstrate their practical meanings\,</font></span></span></p>\n	</li>\n	<li style="padding: 0px\; margin: 0.25em 0px\;">\n	<p><span style="font-size:12px\;"><span style="font-family:arial\;"><font color="#333333">Explore the resources needed to execute in today&rsquo\;s world\, and</font></span></span></p>\n	</li>\n	<li style="padding: 0px\; margin: 0.25em 0px\;">\n	<p><span style="font-size:12px\;"><span style="font-family:arial\;"><font color="#333333">Identify the key factors necessary for success &ndash\; and their value to us!</font></span></span></p>\n	</li>\n</ul>\n\n<p font-size:="" open="" style="margin-top: 0px\;"><span style="font-size:12px\;"><span style="font-family:arial\;">Presenters will answer the tough questions: How do you recognize people who are intrapreneurs or entrepreneurs in your company? What are the challenges to nurturing the culture and supporting this culture profitably? Describe men and women who have found success in these roles? Why can these I+E -preneurships be important in contemporary business success? HOW CAN YOU JOIN IN?</span></span></p>\n\n<p><span style="font-size:12px\;"><span style="font-family:arial\;">&nbsp\;</span></span></p>\n
LOCATION:Gateway Park\, 60 Prescott Street\, Room 1002
UID:e.2083.11753
SEQUENCE:3
DTSTAMP:20260423T145048Z
URL:https://business.cmschamber.org/events/details/future-jobs-intrapreneurs-entrepreneurs-where-do-you-fit-how-do-you-do-it-11753
END:VEVENT

END:VCALENDAR
