BEGIN:VCALENDAR
VERSION:2.0
PRODID:-//ChamberMaster//Event Calendar 2.0//EN
METHOD:PUBLISH
X-PUBLISHED-TTL:P3D
REFRESH-INTERVAL:P3D
CALSCALE:GREGORIAN
BEGIN:VEVENT
DTSTART:20210221T230000Z
DTEND:20210315T010000Z
X-MICROSOFT-CDO-ALLDAYEVENT:FALSE
SUMMARY:Garden Design Basics (Online Workshop)
DESCRIPTION:Garden Design Basics (Online Workshop) This workshop will be held virtually. A zoom link will be sent to you in your confirmation. This workshop is 4 weeks long and will be only be held LIVE. Sundays 2/21/2021-3/14/2021 (4 Sessions) 6:00-9:00 PM Instructor: Cheryl Salatino Capturing your ideas in an easy-to-understand plan is essential when creating a landscape design. This interactive workshop gets you focused on the methods and tools required to develop your design approach. We will use a common residential project as the foundation for sparking new ideas for what is possible. Each week you will evolve your design and present your work for feedback and questions. Our collaborative sessions will provide the skills you need to take the next step in designing your own personal garden. Goals of the Workshop 1. Understanding existing site conditions\, general measurements and reading a plot plan 2. Capturing your ideas on paper 3. Understanding key design principles 4. Applying your design knowledge on a residential project (instructor will provide) Material List (Not provided W/ Course) 1. Pencil & Eraser 2. Engineering Scale 3. Circle template 4. Straight edge (ruler or triangle) 5. Tracing paper 6. Sketch paper 7. 10' or greater tape measure Cheryl is the principal designer and owner of Dancing Shadows Garden Design\, a residential landscape design and services firm. She has been designing gardens across Massachusetts since 2002. Cheryl is a Certified Landscape Designer and a Massachusetts Certified Horticulturist (MCH). She received her certificate in landscape design from the Radcliffe Seminars Landscape Design Program of Harvard University. She was awarded the status of Massachusetts Certified Horticulturist by the Massachusetts Nursery & Landscape Association (MNLA) as evidence of achieving the industry's highest standards in nursery and landscape professionalism. Cheryl has also earned an Advanced Certificate in Horticulture and Design as part of the New England Wildflower Society's Native Plant Studies Program. Classes scheduled every week on Sunday starting 2/21/2021 and ending 3/14/2021 at 6:00PM
X-ALT-DESC;FMTTYPE=text/html:Garden Design Basics (Online Workshop) This workshop will be held virtually. A zoom link will be sent to you in your confirmation. This workshop is 4 weeks long and will be only be held LIVE. Sundays 2/21/2021-3/14/2021 (4 Sessions) 6:00-9:00 PM Instructor: Cheryl Salatino Capturing your ideas in an easy-to-understand plan is essential when creating a landscape design. This interactive workshop gets you focused on the methods and tools required to develop your design approach. We will use a common residential project as the foundation for sparking new ideas for what is possible. Each week you will evolve your design and present your work for feedback and questions. Our collaborative sessions will provide the skills you need to take the next step in designing your own personal garden. Goals of the Workshop 1. Understanding existing site conditions\, general measurements and reading a plot plan 2. Capturing your ideas on paper 3. Understanding key design principles 4. Applying your design knowledge on a residential project (instructor will provide) Material List (Not provided W/ Course) 1. Pencil &amp\; Eraser 2. Engineering Scale 3. Circle template 4. Straight edge (ruler or triangle) 5. Tracing paper 6. Sketch paper 7. 10&#39\; or greater tape measure Cheryl is the principal designer and owner of Dancing Shadows Garden Design\, a residential landscape design and services firm. She has been designing gardens across Massachusetts since 2002. Cheryl is a Certified Landscape Designer and a Massachusetts Certified Horticulturist (MCH). She received her certificate in landscape design from the Radcliffe Seminars Landscape Design Program of Harvard University. She was awarded the status of Massachusetts Certified Horticulturist by the Massachusetts Nursery &amp\; Landscape Association (MNLA) as evidence of achieving the industry&#39\;s highest standards in nursery and landscape professionalism. Cheryl has also earned an Advanced Certificate in Horticulture and Design as part of the New England Wildflower Society&#39\;s Native Plant Studies Program. Classes scheduled every week on Sunday starting 2/21/2021 and ending 3/14/2021 at 6:00PM
LOCATION:Tower Hill Botanic Garden 11 French Drive Boylston
UID:e.2083.12470
SEQUENCE:3
DTSTAMP:20260422T192143Z
URL:https://business.cmschamber.org/events/details/garden-design-basics-online-workshop-12470
END:VEVENT

END:VCALENDAR
