BEGIN:VCALENDAR
VERSION:2.0
PRODID:-//ChamberMaster//Event Calendar 2.0//EN
METHOD:PUBLISH
X-PUBLISHED-TTL:P3D
REFRESH-INTERVAL:P3D
CALSCALE:GREGORIAN
BEGIN:VEVENT
DTSTART:20220810T160000Z
DTEND:20220810T170000Z
X-MICROSOFT-CDO-ALLDAYEVENT:FALSE
SUMMARY:Get Comfy with Your Business’s Back End
DESCRIPTION:You have financial statements for your business--what knowledge can you gain from them? This workshop will provide you with the tools necessary to understand your income statement\, balance sheet and statement of cash flow\; all essential skills for operating a successful business.
X-ALT-DESC;FMTTYPE=text/html:<span style="color:rgb(0\, 0\, 0)\; font-family:lato\,arial\,helvetica\,sans-serif\; font-size:16px">&nbsp\;You have financial statements for your business--what knowledge can you gain from them? This workshop will provide you with the tools necessary to understand your income statement\, balance sheet and statement of cash flow\; all essential skills for operating a successful business.</span>\n<div>&nbsp\;</div>\n
LOCATION:Zoom webinar.
UID:e.2083.14029
SEQUENCE:3
DTSTAMP:20260421T184249Z
URL:https://business.cmschamber.org/events/details/get-comfy-with-your-business-s-back-end-14029
END:VEVENT

END:VCALENDAR
