BEGIN:VCALENDAR
VERSION:2.0
PRODID:-//ChamberMaster//Event Calendar 2.0//EN
METHOD:PUBLISH
X-PUBLISHED-TTL:P3D
REFRESH-INTERVAL:P3D
CALSCALE:GREGORIAN
BEGIN:VEVENT
DTSTART:20230712T130000Z
DTEND:20230712T150000Z
X-MICROSOFT-CDO-ALLDAYEVENT:FALSE
SUMMARY:Get Your Financial Statements In Order for Certification
DESCRIPTION:Are you thinking about certifying your business as woman-owned?  A common reason that applications for certification are denied\, is that the financial documentation is not in order.  Join us for a walkthrough of financial documents needed for obtaining certification!\n\nAbout your instructor:  Owner of Shanks Books LLC\, Shaelyn Shanks is an entrepreneur who helps small business owners with big dreams increase their cashflow and decrease their stress.
X-ALT-DESC;FMTTYPE=text/html:<p>Are you thinking about certifying your business as woman-owned?&nbsp\; A common reason that applications for certification are denied\, is that the financial documentation is not in order.&nbsp\; Join us for a walkthrough of financial documents needed for obtaining certification!</p>\n\n<p><strong>About your instructor:</strong>&nbsp\; Owner of Shanks Books LLC\, Shaelyn Shanks is an entrepreneur who helps small business owners with big dreams increase their cashflow and decrease their stress.</p>\n
LOCATION:Zoom
UID:e.2083.15987
SEQUENCE:3
DTSTAMP:20260420T224909Z
URL:https://business.cmschamber.org/events/details/get-your-financial-statements-in-order-for-certification-15987
END:VEVENT

END:VCALENDAR
