BEGIN:VCALENDAR
VERSION:2.0
PRODID:-//ChamberMaster//Event Calendar 2.0//EN
METHOD:PUBLISH
X-PUBLISHED-TTL:P3D
REFRESH-INTERVAL:P3D
CALSCALE:GREGORIAN
BEGIN:VEVENT
DTSTART:20200716T140000Z
DTEND:20200716T153000Z
X-MICROSOFT-CDO-ALLDAYEVENT:FALSE
SUMMARY:Getting To Decision Makers In Today's Environment
DESCRIPTION:Decision makers are still operating remotely \n	Even if they are back in the office\, they are busy with reopening plans \n	The opportunities in the pipeline are on hold or moving much slower as they show fiscal constraint \n	What can we do to move them along? \n\n\n \n\nSome of your clients may still not be open. Others may be doing better as a result of the pandemic. Regardless\, every business has been affected in some way. In most cases things have slowed down as companies evaluate the impact on revenue and profit. \n\n \n\nYou may be looking for better ways to generate leads\, set meetings (virtually or in-person) and make sure those meetings end up in closed business.  Getting to the decision maker is always an essential part. There is no better time than now when your prospective customers are putting together their rebound plans. Decision makers are fully engaged on how they will increase revenue\, reduce costs\, improve efficiencies or offer new things to their existing customers.  \n\n \n\nIf you want to find out what strategies will get you to your ideal targets before they are ready to buy and influence their decision process in today's environment\, this workshop is for you. \n\n \n\nREGISTER HERE\n\n \n\nIn this workshop you will learn: \n\n \n\n\n	What markets should we be focusing on to get the best traction in the short term? \n	What will get the attention of the decision makers we want to be talking with? \n	How can I differentiate myself in a very competitive marketplace? \n	How can I develop a proactive prospecting plan to get more and better appointments? \n	What prospecting channels will develop the best results for me? \n	How can I warm up my cold calls? \n	How can I get and give more referrals? \n	How can I get them to make quicker decisions? \n	What can I do to make sure my leads and referrals close the type of business I want?
X-ALT-DESC;FMTTYPE=text/html:<ul>\n	<li style="text-align:justify"><strong>Decision makers are still operating remotely&nbsp\;</strong></li>\n	<li style="text-align:justify"><strong>Even if they are back in the office\, they are busy with reopening plans&nbsp\;</strong></li>\n	<li style="text-align:justify"><strong>The opportunities in the pipeline are on hold or moving much slower&nbsp\;as they&nbsp\;show fiscal&nbsp\;constraint&nbsp\;</strong></li>\n	<li style="text-align:justify"><strong>What can we do to move them along?&nbsp\;</strong></li>\n</ul>\n\n<div>&nbsp\;</div>\n\n<div><span style="color:rgb(0\, 0\, 0)\; font-size:16px">Some of your clients may still not be open.&nbsp\;Others may be doing better as a result of the pandemic.&nbsp\;Regardless\, every&nbsp\;business has been affected in some way.&nbsp\;In most cases things have slowed down as companies evaluate the&nbsp\;impact on revenue and profit.&nbsp\;</span></div>\n\n<div style="text-align:justify"><span style="color:rgb(0\, 0\, 0)\; font-size:16px">&nbsp\;</span></div>\n\n<div><span style="color:rgb(0\, 0\, 0)\; font-size:16px">You may be looking for better ways to generate leads\, set meetings (virtually or in-person) and make sure those meetings end up in closed business.&nbsp\;&nbsp\;Getting to the decision maker is always an essential part.&nbsp\;There is no better time than now when your prospective customers are putting together their rebound plans.&nbsp\;Decision makers are fully engaged on how they will increase revenue\, reduce costs\, improve efficiencies or offer new things to their existing customers.&nbsp\;&nbsp\;</span></div>\n\n<div style="text-align:justify"><span style="color:rgb(0\, 0\, 0)\; font-size:16px">&nbsp\;</span></div>\n\n<div><span style="color:rgb(0\, 0\, 0)\; font-size:16px">If you want to find out what strategies will get you to your ideal targets before they are ready to buy and</span><span style="color:rgb(0\, 0\, 0)\; font-family:segoe ui\,lucida grande\,tahoma\,sans-serif\; font-size:16px">&nbsp\;influence their decision process in today&rsquo\;s environment\, this workshop is for you.&nbsp\;</span></div>\n\n<div>&nbsp\;</div>\n\n<div><a href="https://events.r20.constantcontact.com/register/eventReg?llr=miryb7bab&amp\;oeidk=a07eh5ghzcydec53c77" rel="noopener noreferrer" style="font-size: 16px\; color: rgb(54\, 138\, 156)\; font-family: &quot\;Segoe UI&quot\;\, &quot\;Lucida Grande&quot\;\, Tahoma\, sans-serif\; font-weight: bold\;" target="_blank">REGISTER HERE</a></div>\n\n<div>&nbsp\;</div>\n\n<div><strong>In this workshop you will learn:</strong><span style="color:rgb(0\, 0\, 0)\; font-size:16px">&nbsp\;</span></div>\n\n<div><span style="color:rgb(0\, 0\, 0)\; font-size:16px">&nbsp\;</span></div>\n\n<ul>\n	<li><strong>What markets should we be focusing on to get the best traction&nbsp\;in the short term?</strong>&nbsp\;</li>\n	<li><strong>What will get the attention of the decision makers we want to be talking with?</strong>&nbsp\;</li>\n	<li><strong>How can I differentiate myself in a very competitive marketplace?</strong>&nbsp\;</li>\n	<li><strong>How can I develop a proactive prospecting plan to get more and better appointments?</strong>&nbsp\;</li>\n	<li><strong>What prospecting channels&nbsp\;will develop the best&nbsp\;results&nbsp\;for me?</strong>&nbsp\;</li>\n	<li><strong>How can I warm up my cold calls?</strong>&nbsp\;</li>\n	<li><strong>How can I get and&nbsp\;give more referrals?</strong>&nbsp\;</li>\n	<li><strong>How can I get them&nbsp\;to make quicker decisions?</strong>&nbsp\;</li>\n	<li><strong>What can&nbsp\;I&nbsp\;do to make sure&nbsp\;my&nbsp\;leads and referrals close the type of business&nbsp\;I&nbsp\;want?</strong></li>\n</ul>\n
LOCATION:Zoom
UID:e.2083.12186
SEQUENCE:3
DTSTAMP:20260423T065608Z
URL:https://business.cmschamber.org/events/details/getting-to-decision-makers-in-today-s-environment-12186
END:VEVENT

END:VCALENDAR
