BEGIN:VCALENDAR
VERSION:2.0
PRODID:-//ChamberMaster//Event Calendar 2.0//EN
METHOD:PUBLISH
X-PUBLISHED-TTL:P3D
REFRESH-INTERVAL:P3D
CALSCALE:GREGORIAN
BEGIN:VEVENT
DTSTART:20231203T150000Z
DTEND:20231203T170000Z
X-MICROSOFT-CDO-ALLDAYEVENT:FALSE
SUMMARY:Girls on the Run 5K
DESCRIPTION:Each Girls on the Run (GOTR) season concludes with a joyful and fun non-\n\ncompetitive 5K. This culmination gives girls a tangible sense of accomplishment\n\nand the confidence to achieve her dreams. We look forward to you joining this\n\nseason's end-of-season 5K to celebrate the accomplishments of your GOTR\n\nparticipant\, as well as participants across Worcester County!\n\n\n\nHere are the details for this season's 5K event:\n\n? Date: Sunday December 3\, 2023\n\n? Location: Quinsigamond State Park-Lake Park 283 Lake Ave Worcester MA 01604\n\n? Start Time: 10AM race start\, pre race festivities from 9-10AM\n\n? End Time: 11:30AM\n\n\n\nHow to Register:\n\nhttps://www.pinwheel.us/register/index/Fall-2023-DCR-Lake-Park\n\n\n\nRegistration is open through November 30. Those who register before Nov. 1 will receive a t-shirt!\n\n\n\nRegister early for early bird pricing! Here's the 5K Community Runner timeline:\n\n? Early Bird Fee: $35\n\no Now through November 1\, 2023 *Includes a t-shirt\n\n\n\n? Regular Fee: $40\n\no Nov. 1-Nov. 30\n\n\n\n? Day-Of Fee: $50\n\no Sunday December 3\, 2023
X-ALT-DESC;FMTTYPE=text/html:Each Girls on the Run (GOTR) season concludes with a joyful and fun non-<br />\ncompetitive 5K. This culmination gives girls a tangible sense of accomplishment<br />\nand the confidence to achieve her dreams. We look forward to you joining this<br />\nseason&rsquo\;s end-of-season 5K to celebrate the accomplishments of your GOTR<br />\nparticipant\, as well as participants across Worcester County!<br />\n<br />\nHere are the details for this season&rsquo\;s 5K event:<br />\n? Date: Sunday December 3\, 2023<br />\n? Location: Quinsigamond State Park-Lake Park 283 Lake Ave Worcester MA 01604<br />\n? Start Time: 10AM race start\, pre race festivities from 9-10AM<br />\n? End Time: 11:30AM<br />\n<br />\nHow to Register:<br />\n<a href="https://www.pinwheel.us/register/index/Fall-2023-DCR-Lake-Park">https://www.pinwheel.us/register/index/Fall-2023-DCR-Lake-Park</a><br />\n<br />\nRegistration is open through November 30. Those who register before Nov. 1 will receive a t-shirt!<br />\n<br />\nRegister early for early bird pricing! Here&rsquo\;s the 5K Community Runner timeline:<br />\n? Early Bird Fee: $35<br />\no Now through November 1\, 2023 *Includes a t-shirt<br />\n<br />\n? Regular Fee: $40<br />\no Nov. 1-Nov. 30<br />\n<br />\n? Day-Of Fee: $50<br />\no Sunday December 3\, 2023<br />\n&nbsp\;
LOCATION:? Location: Quinsigamond State Park-Lake Park 283 Lake Ave Worcester MA 01604
UID:e.2083.16704
SEQUENCE:3
DTSTAMP:20260420T135109Z
URL:https://business.cmschamber.org/events/details/girls-on-the-run-5k-12-03-2023-16704
END:VEVENT

END:VCALENDAR
