BEGIN:VCALENDAR
VERSION:2.0
PRODID:-//ChamberMaster//Event Calendar 2.0//EN
METHOD:PUBLISH
X-PUBLISHED-TTL:P3D
REFRESH-INTERVAL:P3D
CALSCALE:GREGORIAN
BEGIN:VEVENT
DTSTART;VALUE=DATE:20210923
DTEND;VALUE=DATE:20210924
TRANSP:TRANSPARENT
X-MICROSOFT-CDO-ALLDAYEVENT:TRUE
SUMMARY:Girls on the Run Worcester County Golf Tournament
DESCRIPTION:Join us for our annual golf tournament to raise funds in support of girls across Worcester County. We want every girl to realize her limitless potential!
X-ALT-DESC;FMTTYPE=text/html:Join us for our annual golf tournament to raise funds in support of girls across Worcester County. We want every girl to realize her limitless potential!
LOCATION:Shining Rock Golf Club 91 Clubhouse Lane Northbridge\, MA
UID:e.2083.13067
SEQUENCE:3
DTSTAMP:20260422T091154Z
URL:https://business.cmschamber.org/events/details/girls-on-the-run-worcester-county-golf-tournament-13067
END:VEVENT

END:VCALENDAR
