BEGIN:VCALENDAR
VERSION:2.0
PRODID:-//ChamberMaster//Event Calendar 2.0//EN
METHOD:PUBLISH
X-PUBLISHED-TTL:P3D
REFRESH-INTERVAL:P3D
CALSCALE:GREGORIAN
BEGIN:VEVENT
DTSTART:20220805T230000Z
DTEND:20220806T010000Z
X-MICROSOFT-CDO-ALLDAYEVENT:FALSE
SUMMARY:Glow in the Dark Paint Party and Smashit
DESCRIPTION:If you like painting\, you will LOVE GLOW IN THE DARK PAINTING AND SMASHIT     \n\nYou will paint for one hour under blacklights with glow in the dark neon paint followed by breaking a bucket of bottles with a baseball bat or thunderstick. This program is co-sponsored by Smashit2 and Odonata Artistic Services by April Small.
X-ALT-DESC;FMTTYPE=text/html:<span style="font-size:14px"><span style="font-family:comic sans ms"><strong><span style="color:#000000">If you like painting\, you will</span></strong>&nbsp\;<strong><span style="color:#ff00cc">LOVE GLOW IN THE DARK PAINTING AND SMASHIT&nbsp\;</span> &nbsp\; &nbsp\;<br />\nYou will paint for one hour under blacklights with glow in the dark neon paint followed by breaking a bucket of bottles with a baseball bat or thunderstick. This program is co-sponsored by Smashit2 and Odonata Artistic Services by April Small.&nbsp\;</strong></span></span>
LOCATION:Smashit2 - 6B Boulder Parkway\, North Oxford\, MA Use Waze and type in 10 Boulder Parkway it will bring you right to our building. Look for a-framed signs on the property pointing you in the right direction. We are located on the corner of Rt 56 and Rt 20 in Boulder Industrial Park.
UID:e.2083.13991
SEQUENCE:3
DTSTAMP:20260421T184620Z
URL:https://business.cmschamber.org/events/details/glow-in-the-dark-paint-party-and-smashit-13991
END:VEVENT

END:VCALENDAR
