BEGIN:VCALENDAR
VERSION:2.0
PRODID:-//ChamberMaster//Event Calendar 2.0//EN
METHOD:PUBLISH
X-PUBLISHED-TTL:P3D
REFRESH-INTERVAL:P3D
CALSCALE:GREGORIAN
BEGIN:VEVENT
DTSTART:20191101T140000Z
DTEND:20191127T220000Z
X-MICROSOFT-CDO-ALLDAYEVENT:FALSE
SUMMARY:Gnomevember
DESCRIPTION:Tower Hill Botanic Garden in Boylston\, Massachusetts\, will be hosting Gnomevember from Nov. 1 to 30\, 2019. Children and the young at heart will enjoy searching for lost garden gnomes throughout the formal gardens of the property as part of a scavenger hunt. Tower Hill is a nonprofit organization dedicated to connecting people and plants and features woodland trails\, scenic trails\, subtropical conservatories\, and much more. For more information\, visit towerhillbg.org
X-ALT-DESC;FMTTYPE=text/html:Tower Hill Botanic Garden in Boylston\, Massachusetts\, will be hosting Gnomevember from Nov. 1 to 30\, 2019. Children and the young at heart will enjoy searching for lost garden gnomes throughout the formal gardens of the property as part of a scavenger hunt. Tower Hill is a nonprofit organization dedicated to connecting people and plants and features woodland trails\, scenic trails\, subtropical conservatories\, and much more. For more information\, visit towerhillbg.org
LOCATION:Tower Hill Botanic Garden
UID:e.2083.11626
SEQUENCE:3
DTSTAMP:20260423T193249Z
URL:https://business.cmschamber.org/events/details/gnomevember-11626
END:VEVENT

END:VCALENDAR
