BEGIN:VCALENDAR
VERSION:2.0
PRODID:-//ChamberMaster//Event Calendar 2.0//EN
METHOD:PUBLISH
X-PUBLISHED-TTL:P3D
REFRESH-INTERVAL:P3D
CALSCALE:GREGORIAN
BEGIN:VEVENT
DTSTART:20220419T180000Z
DTEND:20220419T190000Z
X-MICROSOFT-CDO-ALLDAYEVENT:FALSE
SUMMARY:Going from Zero to Hero on Instagram for Business - Part 2
DESCRIPTION:Are you ready to take your business onto Instagram for better marketing and sales? Learn from the pros how to set yourself up for success with this in-depth two-part webinar! We're covering everything you need\, from business account setups to capitalizing on social media marketing and engagement with your new customer base\, including platform-specific tips\, tricks\, and behind-the-scene account work to get the most out of Instagram!\n\n \n\nIn part 2 of this webinar series\, Julia Becker Collins\, COO of Vision Advertising\, will go over the following:\n\n \n\n\n	A deeper look into Instagram and all the tools/features available. Posts\, stories\, reels\, IGTV\, lives\n	Engagement strategy. Likes\, comments\, shares\, saves\, story replies\n	Hashtag strategy\n	Linking your Instagram and Facebook pages
X-ALT-DESC;FMTTYPE=text/html:<p>Are you ready to take your business onto Instagram for better marketing and sales? Learn from the pros how to set yourself up for success with this in-depth two-part webinar! We&rsquo\;re covering everything you need\, from business account setups to capitalizing on social media marketing and engagement with your new customer base\, including platform-specific tips\, tricks\, and behind-the-scene account work to get the most out of Instagram!</p>\n\n<p>&nbsp\;</p>\n\n<p>In part 2 of this webinar series\, Julia Becker Collins\, COO of Vision Advertising\, will go over the following:</p>\n\n<p>&nbsp\;</p>\n\n<ul>\n	<li>A deeper look into Instagram and all the tools/features available. Posts\, stories\, reels\, IGTV\, lives</li>\n	<li>Engagement strategy. Likes\, comments\, shares\, saves\, story replies</li>\n	<li>Hashtag strategy</li>\n	<li>Linking your Instagram and Facebook pages</li>\n</ul>\n
LOCATION:Zoom
UID:e.2083.13829
SEQUENCE:3
DTSTAMP:20260421T231705Z
URL:https://business.cmschamber.org/events/details/going-from-zero-to-hero-on-instagram-for-business-part-2-13829
END:VEVENT

END:VCALENDAR
