BEGIN:VCALENDAR
VERSION:2.0
PRODID:-//ChamberMaster//Event Calendar 2.0//EN
METHOD:PUBLISH
X-PUBLISHED-TTL:P3D
REFRESH-INTERVAL:P3D
CALSCALE:GREGORIAN
BEGIN:VEVENT
DTSTART:20220329T180000Z
DTEND:20220329T190000Z
X-MICROSOFT-CDO-ALLDAYEVENT:FALSE
SUMMARY:Going from Zero to Hero on Instagram for Business - Part I
DESCRIPTION:Are you ready to take your business onto Instagram for better marketing and sales? Learn from the pros how to set yourself up for success with this in-depth two-part webinar! We're covering everything you need\, from business account setups to capitalizing on social media marketing and engagement with your new customer base\, including platform-specific tips\, tricks\, and behind-the-scene account work to get the most out of Instagram!\n\nIn part 1 of this webinar series\, Julia Becker Collins\, COO of Vision Advertising\, will go over the following:\n\n\n	In introduction to Instagram\n	Setting up a personal vs. business page\n	The difference between a creator vs. business account\n	An overview of Instagram's different features. Posts\, stories\, reels\, IGTV\, lives
X-ALT-DESC;FMTTYPE=text/html:<p>Are you ready to take your business onto Instagram for better marketing and sales? Learn from the pros how to set yourself up for success with this in-depth two-part webinar! We&rsquo\;re covering everything you need\, from business account setups to capitalizing on social media marketing and engagement with your new customer base\, including platform-specific tips\, tricks\, and behind-the-scene account work to get the most out of Instagram!</p>\n\n<p>In part 1 of this webinar series\, Julia Becker Collins\, COO of Vision Advertising\, will go over the following:</p>\n\n<ul>\n	<li>In introduction to Instagram</li>\n	<li>Setting up a personal vs. business page</li>\n	<li>The difference between a creator vs. business account</li>\n	<li>An overview of Instagram&rsquo\;s different features. Posts\, stories\, reels\, IGTV\, lives</li>\n</ul>\n
LOCATION:Zoom
UID:e.2083.13828
SEQUENCE:3
DTSTAMP:20260422T004932Z
URL:https://business.cmschamber.org/events/details/going-from-zero-to-hero-on-instagram-for-business-part-i-13828
END:VEVENT

END:VCALENDAR
