BEGIN:VCALENDAR
VERSION:2.0
PRODID:-//ChamberMaster//Event Calendar 2.0//EN
METHOD:PUBLISH
X-PUBLISHED-TTL:P3D
REFRESH-INTERVAL:P3D
CALSCALE:GREGORIAN
BEGIN:VEVENT
DTSTART:20191119T133000Z
DTEND:20191119T150000Z
X-MICROSOFT-CDO-ALLDAYEVENT:FALSE
SUMMARY:Going Mobile: Improving your Business Processes with Minimal Disruption
DESCRIPTION:Alpha Software Corporation\, a new Corporate Member of the Chamber\, is offering a free trial of their awarding-winning Alpha TransForm App as a benefit to other Chamber members looking at cost-effective ways to gain operational efficiency. Come learn more on November 19.\n\n\n\nPresenters: \n\nRichard Rabins\, CEO\, Alpha Software Corporation\n\nDave McCormick\, Vice President of Product Management and Services\, Alpha Software Corporation\n\nGreg Bohling\, Director of Mobile Business Solutions\, Alpha Software Corporation\n\n \n\nThis presentation will discuss data and trends around digital transformation and offer practical advice and tips on how to make mobile business a reality at your company. The presentation will cover: \n\n\n\n- Benefits of mobile transformation to your business (including real-world examples and research data) \n\n- Common challenges of mobility initiatives and how to overcome them \n\n- Modern methods for mobilizing your business with minimal risk\n\n\n\nThe presentation will include case study examples from such industries as manufacturing\, construction and energy.
X-ALT-DESC;FMTTYPE=text/html:Alpha Software Corporation\, a new Corporate Member of the Chamber\, is offering a free trial of their awarding-winning Alpha TransForm App as a benefit to other Chamber members looking at cost-effective ways to gain operational&nbsp\;efficiency. Come learn more on November 19.<br />\n<br />\nPresenters:&nbsp\;<br />\nRichard Rabins\, CEO\, Alpha Software Corporation<br />\nDave McCormick\, Vice President of Product Management and Services\, Alpha Software&nbsp\;Corporation<br />\nGreg Bohling\, Director of Mobile Business Solutions\, Alpha Software Corporation<br />\n&nbsp\;<br />\nThis presentation will discuss data and trends around digital transformation and offer practical advice and tips on how to make mobile business a reality at your company. The presentation will cover:&nbsp\;<br />\n<br />\n- Benefits of mobile transformation to your business (including real-world examples and research data)&nbsp\;<br />\n- Common challenges of mobility initiatives and how to overcome them&nbsp\;<br />\n- Modern methods for mobilizing your business with minimal risk<br />\n<br />\nThe presentation will include case study examples from such industries as manufacturing\, construction and energy.<br />\n&nbsp\;
LOCATION:George & Sybil Fuller Conference Room Worcester Regional Chamber of Commerce 311 Main Street\, Suite 200 Worcester\, MA On street parking (most meters have a 2 hour limit\; accept card/coin)\, or surface parking lots (which range from $5-15 per day depending on events and time of day). These lots are cash only: Main Street\, across from The Palladium Exchange Street\, across from Waldo Street Waldo Street lot\, behind Mechanics Hall There are some nearby parking garages (within 2-3 blocks) that offer hourly rates: Mercantile Center Garage: 201 Commercial St. / (508) 791-7689 Major Taylor Blvd. Municipal Garage: 30 Major Taylor Blvd. / (774) 696.8749 Pearl/Elm Garage: 20 Pearl St. / (508) 799-1463
UID:e.2083.10321
SEQUENCE:3
DTSTAMP:20260423T193456Z
URL:https://business.cmschamber.org/events/details/going-mobile-improving-your-business-processes-with-minimal-disruption-10321
END:VEVENT

END:VCALENDAR
