BEGIN:VCALENDAR
VERSION:2.0
PRODID:-//ChamberMaster//Event Calendar 2.0//EN
METHOD:PUBLISH
X-PUBLISHED-TTL:P3D
REFRESH-INTERVAL:P3D
CALSCALE:GREGORIAN
BEGIN:VEVENT
DTSTART:20230417T070000Z
DTEND:20230417T230000Z
X-MICROSOFT-CDO-ALLDAYEVENT:FALSE
SUMMARY:Golden Bonds: Healing Families
DESCRIPTION:This program is for teens and families who want to: excel in school\, learn how to manage stress\, practice self-care\, learn how to be present\, have better relationships\, and have fun with arts & crafts.\n\n\n\nThis is an experiential program with systematic training in age-appropriate\, mindfulness practices\, deep listening\, compassionate communication skills\, creative arts exercises\, and trauma-informed meditation and mindful movement. It is a group intervention using small and large groups to process practices and interactive exercises. Frameworks of social-emotional learning\, psycho-educational didactic components on stress reduction\, emotion regulation\, and resilience are presented. \n\n\n\nFive-session commitment\, Monday-Friday\, April 17 - 21 from 3-7 pm\, and dinner is included! Space is limited.\n\n\n\nContact us today to reserve your space: email info@heartwellinstitute.org\; call Zayda - 508-963-6460\; or call Sandy - 774-243-6800\, or Apply Now.\n\n\n\nThis program is made possible through a generous grant from the Reliant Foundation.
X-ALT-DESC;FMTTYPE=text/html:<h2><span style="color:rgb(var(--color_24))"><span style="font-family:futura-lt-w01-book\,futura-lt-w05-book\,sans-serif">This program is for teens and families who want to: excel in school\, learn how to manage stress\, practice self-care\, learn how to be present\, have better relationships\, and have fun with arts &amp\; crafts.</span></span></h2>\n\n<h2><br />\n<span style="color:rgb(var(--color_24))"><span style="font-family:futura-lt-w01-book\,futura-lt-w05-book\,sans-serif">This is an experiential program with systematic training in age-appropriate\, mindfulness practices\, deep listening\, compassionate communication skills\, creative arts exercises\, and trauma-informed meditation and mindful movement. It is a group intervention using small and large groups to process practices and interactive exercises. Frameworks of social-emotional learning\, psycho-educational didactic components on stress reduction\, emotion regulation\, and resilience are presented.&nbsp\;<br />\n<br />\nFive-session commitment\, Monday-Friday\, April 17 - 21 from 3-7 pm\, and dinner is included! Space is limited.<br />\n<br />\nContact us today to reserve your space: email&nbsp\;<a href="mailto:info@heartwellinstitute.org?subject=About%20%E2%80%8BHealing%20Families:%20Fostering\,%20Emotional%20Regulation\,%20and%20Resilience%20for%20Parents%20and%20Adolescents" style="background: transparent\; border: 0px\; margin: 0px\; outline: 0px\; padding: 0px\; vertical-align: baseline\; cursor: pointer\; text-decoration-line: none\; color: inherit\;" target="_self">info@heartwellinstitute.org</a>\; call Zayda - 508-963-6460\; or call Sandy - 774-243-6800\, or&nbsp\;<em><strong><a href="https://forms.gle/FknS7ZZcpF2tc3Zo6" rel="noreferrer noopener" style="background: transparent\; border: 0px\; margin: 0px\; outline: 0px\; padding: 0px\; vertical-align: baseline\; cursor: pointer\; text-decoration-line: none\; color: inherit\;" target="_blank">Apply Now</a></strong></em>.<br />\n<br />\nThis program is made possible through a generous grant from the&nbsp\;<a href="https://reliantfoundation.org/" rel="noreferrer noopener" style="background: transparent\; border: 0px\; margin: 0px\; outline: 0px\; padding: 0px\; vertical-align: baseline\; cursor: pointer\; text-decoration-line: none\; color: inherit\;" target="_blank">Reliant Foundation</a>.</span></span></h2>\n
LOCATION:The HeartWell Institute 1015 Pleasant ST. Worcester\, MA 01602
UID:e.2083.15512
SEQUENCE:3
DTSTAMP:20260421T042604Z
URL:https://business.cmschamber.org/events/details/golden-bonds-healing-families-15512
END:VEVENT

END:VCALENDAR
