BEGIN:VCALENDAR
VERSION:2.0
PRODID:-//ChamberMaster//Event Calendar 2.0//EN
METHOD:PUBLISH
X-PUBLISHED-TTL:P3D
REFRESH-INTERVAL:P3D
CALSCALE:GREGORIAN
BEGIN:VEVENT
DTSTART:20230628T180000Z
DTEND:20230628T193000Z
X-MICROSOFT-CDO-ALLDAYEVENT:FALSE
SUMMARY:Graphic Design for the Non-Designer
DESCRIPTION:One big hurdle for small businesses and entrepreneurs is graphic design. The pressure to create compelling visuals for your websites\, social media\, and pitches is immense\, and the hurdles of technical skill and cost have deterred many. But it doesn't have to be that way!\n\nLearn from Vision Advertising's Catrina Gardner how anyone can get started in graphic design for their business\; no expensive app or art degree required! She'll go over the basics using the free Canva app\, walk you through the graphic design foundations\, and what other free resources are available to you.\n\nCatrina is an experienced\, design-driven marketing professional. With a degree in graphic design & studio art\, Catrina has a notable background in print design. Her designs have been sold at Homegoods\, Bed Bath & Beyond\, and in small d cor shops across the country.\n\nWhat to Expect in This Bootcamp:\n\nCatrina will show you the ropes of using Canva\, as well as design basics and foundations you can use on or off the app. Additional\, she'll spend time covering:\n\n- Graphic design basics such as use of space\, balance\, and color\n\n- Foundations in visual hierarchy\, lines and shapes\, and typography\n\n- Free and user-friendly resources people can use\n\n- A quick tutorial of the free graphic design app Canva\n\n- How to implement the above "rules" on an example piece
X-ALT-DESC;FMTTYPE=text/html:<p>One big hurdle for small businesses and entrepreneurs is graphic design. The pressure to create compelling visuals for your websites\, social media\, and pitches is immense\, and the hurdles of technical skill and cost have deterred many. But it doesn&rsquo\;t have to be that way!<br />\nLearn from Vision Advertising&rsquo\;s Catrina Gardner how anyone can get started in graphic design for their business\; no expensive app or art degree required! She&rsquo\;ll go over the basics using the free Canva app\, walk you through the graphic design foundations\, and what other free resources are available to you.</p>\n\n<p>Catrina is an experienced\, design-driven marketing professional. With a degree in graphic design &amp\; studio art\, Catrina has a notable background in print design. Her designs have been sold at Homegoods\, Bed Bath &amp\; Beyond\, and in small d&eacute\;cor shops across the country.</p>\n\n<p>What to Expect in This Bootcamp:</p>\n\n<p>Catrina will show you the ropes of using Canva\, as well as design basics and foundations you can use on or off the app. Additional\, she&rsquo\;ll spend time covering:<br />\n- Graphic design basics such as use of space\, balance\, and color<br />\n- Foundations in visual hierarchy\, lines and shapes\, and typography<br />\n- Free and user-friendly resources people can use<br />\n- A quick tutorial of the free graphic design app Canva<br />\n- How to implement the above &ldquo\;rules&rdquo\; on an example piece</p>\n
LOCATION:Zoom
UID:e.2083.15965
SEQUENCE:3
DTSTAMP:20260421T004749Z
URL:https://business.cmschamber.org/events/details/graphic-design-for-the-non-designer-15965
END:VEVENT

END:VCALENDAR
