BEGIN:VCALENDAR
VERSION:2.0
PRODID:-//ChamberMaster//Event Calendar 2.0//EN
METHOD:PUBLISH
X-PUBLISHED-TTL:P3D
REFRESH-INTERVAL:P3D
CALSCALE:GREGORIAN
BEGIN:VEVENT
DTSTART:20231215T220000Z
DTEND:20231216T023000Z
X-MICROSOFT-CDO-ALLDAYEVENT:FALSE
SUMMARY:Great Wolf Lodge presents-Howlin' Happy Holiday Dinner\, Country Music & Comedy Show
DESCRIPTION:Howl with laughter and join the fun in a night of hysterics for your company holiday gathering\, "family fest" or just a "night out". Begin with cocktails\, country rock\, conversation and a delicious dinner buffet before your roar into merriment with local comedians\, Sean Sullivan-2022 Funniest Person in MA and headliner Corey Rodriguez-Comedian\, Actor and Radio Personality as winner of The Catch a Rising Star.\n\n\n\nDon't miss it and don't forget your best ugly sweaters. Optional of course!\n\nDinner Buffet Menu- 6:30pm-7:30pm\n\nTossed Garden Salad\, Assorted Dressings\n\n	Traditional Caesar Salad\n	Rolls & Butter\n	Carved Roast Beef\, Au Jus\n	Chicken with Smoked Gouda & Prosciutto\n	Penne Pasta Marinara\n	Rice Pilaf\n	Green Beans\, Olive Oil\, Sea Salt\, Cracked Pepper\n	Glazed Carrots\n	Chef's Holiday Sweet Confections Table\n	Freshly Brewed Coffee & Assorted Teas
X-ALT-DESC;FMTTYPE=text/html:<strong><span style="font-size:14px">Howl with laughter and join the fun in a night of hysterics for your company holiday gathering\, &ldquo\;family fest&rdquo\; or just a &ldquo\;night out&rdquo\;. Begin with cocktails\, country rock\, conversation and a delicious dinner buffet before your roar into merriment with local comedians\, Sean Sullivan-2022 Funniest Person in MA and headliner Corey Rodriguez-Comedian\, Actor and Radio Personality as winner of The Catch a Rising Star.</span><br />\n<br />\n<span style="font-size:16.0pt"><span style="font-size:14px">Don&rsquo\;t miss it and don&rsquo\;t forget your best ugly sweaters. Optional of course!<br />\nDinner Buffet Menu- 6:30pm-7:30pm</span></span><br />\n<span style="font-family:tahoma\,sans-serif"><span style="font-size:10.0pt">Tossed Garden Salad\, Assorted Dressings</span></span></strong>\n<ul>\n	<li><strong><span style="font-family:tahoma\,sans-serif"><span style="font-size:10.0pt">Traditional Caesar Salad</span></span></strong></li>\n	<li><strong><span style="font-family:tahoma\,sans-serif"><span style="font-size:10.0pt">Rolls &amp\; Butter</span></span></strong></li>\n	<li><strong><span style="font-family:tahoma\,sans-serif"><span style="font-size:10.0pt">Carved Roast Beef\, Au Jus</span></span></strong></li>\n	<li><strong><span style="font-family:tahoma\,sans-serif"><span style="font-size:10.0pt">Chicken with Smoked Gouda &amp\; Prosciutto</span></span></strong></li>\n	<li><strong><span style="font-family:tahoma\,sans-serif"><span style="font-size:10.0pt">Penne Pasta Marinara</span></span></strong></li>\n	<li><strong><span style="font-family:tahoma\,sans-serif"><span style="font-size:10.0pt">Rice Pilaf</span></span></strong></li>\n	<li><strong><span style="font-family:tahoma\,sans-serif"><span style="font-size:10.0pt">Green Beans\, Olive Oil\, Sea Salt\, Cracked Pepper</span></span></strong></li>\n	<li><strong><span style="font-family:tahoma\,sans-serif"><span style="font-size:10.0pt">Glazed Carrots</span></span></strong></li>\n	<li><strong><span style="font-family:tahoma\,sans-serif"><span style="font-size:10.0pt">Chef&rsquo\;s Holiday Sweet Confections Table</span></span></strong></li>\n	<li><strong><span style="font-family:tahoma\,sans-serif"><span style="font-size:10.0pt">Freshly Brewed Coffee &amp\; Assorted Teas</span></span></strong></li>\n</ul>\n
LOCATION:Great Wolf Lodge New England White Oak Ballroom 150 Great Wolf Drive Fitchburg MA 01420
UID:e.2083.16856
SEQUENCE:3
DTSTAMP:20260420T135111Z
URL:https://business.cmschamber.org/events/details/great-wolf-lodge-presents-howlin-happy-holiday-dinner-comedy-show-16856
END:VEVENT

END:VCALENDAR
