BEGIN:VCALENDAR
VERSION:2.0
PRODID:-//ChamberMaster//Event Calendar 2.0//EN
METHOD:PUBLISH
X-PUBLISHED-TTL:P3D
REFRESH-INTERVAL:P3D
CALSCALE:GREGORIAN
BEGIN:VEVENT
DTSTART:20220611T130000Z
DTEND:20220611T160000Z
X-MICROSOFT-CDO-ALLDAYEVENT:FALSE
SUMMARY:Greater Boston Take Steps Walk
DESCRIPTION:Take Steps is a family-friendly fundraising event where patients\, loved ones\, friends and supporters empower and inspire each other to continue the fight against inflammatory bowel diseases (IBD). By joining Take Steps\, you will become part of the IBD community\, who not only provide support to each other\, but who\, together\, are actively raising money to help the Crohn's & Colitis Foundation fund research into better treatments and ultimately cures for Crohn's disease and ulcerative colitis. Join the Take Steps movement to raise funds for IBD and we can celebrate together on June 11th at North Point Park. Register here at https://bit.ly/GreaterBoston2022 Contact Catherine Pavlick at cpavlick@crohnscolitisfoundation.org or (646) 477-3581 for additional information.
X-ALT-DESC;FMTTYPE=text/html:Take Steps is a family-friendly fundraising event where patients\, loved ones\, friends and supporters empower and inspire each other to continue the fight against inflammatory bowel diseases (IBD). By joining Take Steps\, you will become part of the IBD community\, who not only provide support to each other\, but who\, together\, are actively raising money to help the Crohn&rsquo\;s &amp\; Colitis Foundation fund research into better treatments and ultimately cures for Crohn&rsquo\;s disease and ulcerative colitis. Join the Take Steps movement to raise funds for IBD and we can celebrate together on June 11th at North Point Park. Register here at https://bit.ly/GreaterBoston2022 Contact Catherine Pavlick at cpavlick@crohnscolitisfoundation.org or (646) 477-3581 for additional information.
LOCATION:North Point Park 6 Museum Way Cambridge MA 02141
UID:e.2083.13801
SEQUENCE:3
DTSTAMP:20260421T202121Z
URL:https://business.cmschamber.org/events/details/greater-boston-take-steps-walk-13801
END:VEVENT

END:VCALENDAR
