BEGIN:VCALENDAR
VERSION:2.0
PRODID:-//ChamberMaster//Event Calendar 2.0//EN
METHOD:PUBLISH
X-PUBLISHED-TTL:P3D
REFRESH-INTERVAL:P3D
CALSCALE:GREGORIAN
BEGIN:VEVENT
DTSTART:20231017T200000Z
DTEND:20231017T220000Z
X-MICROSOFT-CDO-ALLDAYEVENT:FALSE
SUMMARY:Greater Worcester Community Foundation Open House
DESCRIPTION:Join us for our open house and a chance to meet our new CEO\, Pete Dunn!\n\nOur new offices are located at One Mercantile Street\, Suite 010 (lower level).\n\n\n\nTo join us\, use the main entrance and notify security that you are here for the Greater Worcester Community Foundation open house in Suite 010. Take the elevators to go down to Level B.\n\nParking is available at One Mercantile. No need to RSVP\, just stop by any time between 4-6 p.m.\n\nWe look forward to seeing you!
X-ALT-DESC;FMTTYPE=text/html:<p>Join us for our open house and a chance to meet our new CEO\, Pete Dunn!</p>\n\n<p>Our new offices are located at One Mercantile Street\, Suite 010 (lower level).<br />\n<br />\nTo join us\, use the main entrance and notify security that you are here for the Greater Worcester Community Foundation open house in Suite 010. Take the elevators to go down to Level B.</p>\n\n<p>Parking is available at One Mercantile. No need to RSVP\, just stop by any time between 4-6 p.m.</p>\n\n<p>We look forward to seeing you!</p>\n
LOCATION:One Mercantile Street Suite 010 Worcester\, MA 01608
UID:e.2083.16457
SEQUENCE:3
DTSTAMP:20260420T170942Z
URL:https://business.cmschamber.org/events/details/greater-worcester-community-foundation-open-house-16457
END:VEVENT

END:VCALENDAR
