BEGIN:VCALENDAR
VERSION:2.0
PRODID:-//ChamberMaster//Event Calendar 2.0//EN
METHOD:PUBLISH
X-PUBLISHED-TTL:P3D
REFRESH-INTERVAL:P3D
CALSCALE:GREGORIAN
BEGIN:VEVENT
DTSTART:20210612T180000Z
DTEND:20210612T193000Z
X-MICROSOFT-CDO-ALLDAYEVENT:FALSE
SUMMARY:Guided Butterfly Walk
DESCRIPTION:Event Name: Guided Butterfly Walk Event Date(s): Saturday\, 6/12/2021\, 2:00 PM - 3:30 PM\, 1 hour\, 30 minutes Instructor: Martha Gach Tower Hill's gardens and meadows provide bountiful food and shelter for a variety of butterflies in both their adult and larval forms. Join Martha Gach from Mass Audubon to learn about a butterfly's life cycle and how you can attract them to your own gardens. Walk the gardens with us to search for and identify some local species. Martha Gach is the Mass Audubon Central Region Education Manager and the Conservation Coordinator at Broad Meadow Brook Sanctuary in Worcester\, where she manages Broad Meadow Brook's 435 acres of conservation land for wildlife and people. Dr. Gach is President of the Massachusetts Butterfly Club and she coordinated the design\, installation\, and maintenance of the butterfly gardens and sustainable landscape campus at Broad Meadow Brook. $15 Member Adult\; $25 Adult (Registration includes admission to the Garden) Additional Program Information Please wear the appropriate attire for walking around the gardens including trails. Please note\, there is currently construction happening at Tower Hill\, which may result in altered or obstructed walkways\, parking lots\, or parking spaces\, in addition to some noise.
X-ALT-DESC;FMTTYPE=text/html:Event Name: Guided Butterfly Walk Event Date(s): Saturday\, 6/12/2021\, 2:00 PM - 3:30 PM\, 1 hour\, 30 minutes Instructor: Martha Gach Tower Hill&#39\;s gardens and meadows provide bountiful food and shelter for a variety of butterflies in both their adult and larval forms. Join Martha Gach from Mass Audubon to learn about a butterfly&rsquo\;s life cycle and how you can attract them to your own gardens. Walk the gardens with us to search for and identify some local species. Martha Gach is the Mass Audubon Central Region Education Manager and the Conservation Coordinator at Broad Meadow Brook Sanctuary in Worcester\, where she manages Broad Meadow Brook&rsquo\;s 435 acres of conservation land for wildlife and people. Dr. Gach is President of the Massachusetts Butterfly Club and she coordinated the design\, installation\, and maintenance of the butterfly gardens and sustainable landscape campus at Broad Meadow Brook. $15 Member Adult\; $25 Adult (Registration includes admission to the Garden) Additional Program Information Please wear the appropriate attire for walking around the gardens including trails. Please note\, there is currently construction happening at Tower Hill\, which may result in altered or obstructed walkways\, parking lots\, or parking spaces\, in addition to some noise.
LOCATION:Tower Hill Botanic Garden 11 French Drive Boylston
UID:e.2083.12983
SEQUENCE:3
DTSTAMP:20260422T143945Z
URL:https://business.cmschamber.org/events/details/guided-butterfly-walk-12983
END:VEVENT

END:VCALENDAR
