BEGIN:VCALENDAR
VERSION:2.0
PRODID:-//ChamberMaster//Event Calendar 2.0//EN
METHOD:PUBLISH
X-PUBLISHED-TTL:P3D
REFRESH-INTERVAL:P3D
CALSCALE:GREGORIAN
BEGIN:VEVENT
DTSTART:20221030T230000Z
DTEND:20221031T020000Z
X-MICROSOFT-CDO-ALLDAYEVENT:FALSE
SUMMARY:Halloween Indoor and Outdoor Spooky Walk Experience
DESCRIPTION:An Indoor and Outdoor Halloween Experience. We have anamatronics\, live actors\, sounds\, lights\, food trucks\, trunk or treat\, face painting\, and more.
X-ALT-DESC;FMTTYPE=text/html:<p style="text-align:center"><span style="font-size:18px">An Indoor and Outdoor Halloween Experience. We have anamatronics\, live actors\, sounds\, lights\, food trucks\, trunk or treat\, face painting\, and more.&nbsp\;&nbsp\;</span><br />\n&nbsp\;</p>\n\n<p style="text-align:center">&nbsp\;</p>\n
LOCATION:Hosted by: Smashit2 6B Boulder Parkway\, North Oxford\, MA every weekend in October.
UID:e.2083.14774
SEQUENCE:3
DTSTAMP:20260421T142630Z
URL:https://business.cmschamber.org/events/details/halloween-indoor-and-outdoor-spooky-walk-experience-10-30-2022-14774
END:VEVENT

END:VCALENDAR
