BEGIN:VCALENDAR
VERSION:2.0
PRODID:-//ChamberMaster//Event Calendar 2.0//EN
METHOD:PUBLISH
X-PUBLISHED-TTL:P3D
REFRESH-INTERVAL:P3D
CALSCALE:GREGORIAN
BEGIN:VEVENT
DTSTART;VALUE=DATE:20201031
DTEND;VALUE=DATE:20201101
TRANSP:TRANSPARENT
X-MICROSOFT-CDO-ALLDAYEVENT:TRUE
SUMMARY:Halloween Story Time
DESCRIPTION:New York Life is putting on Story Time for all children on Saturday October 31st\, Halloween. They have hired a professional story telling company\, more information is attached. Its free and open to anyone. Please share with others. All treats no tricks. New York Life is hosting a virtual Halloween event on 10/31 with the Story Pirates. It's a free\, fun and\, most of all\, safe way to celebrate Halloween with your kids. RSVP today. https://lnkd.in/gt9wx8d
X-ALT-DESC;FMTTYPE=text/html:New York Life is putting on Story Time for all children on Saturday October 31st\, Halloween. They have hired a professional story telling company\, more information is attached. Its free and open to anyone. Please share with others. All treats no tricks. New York Life is hosting a virtual Halloween event on 10/31 with the Story Pirates. It&rsquo\;s a free\, fun and\, most of all\, safe way to celebrate Halloween with your kids. RSVP today. https://lnkd.in/gt9wx8d
LOCATION:https://lnkd.in/gt9wx8d
UID:e.2083.12364
SEQUENCE:3
DTSTAMP:20260423T033824Z
URL:https://business.cmschamber.org/events/details/halloween-story-time-12364
END:VEVENT

END:VCALENDAR
