BEGIN:VCALENDAR
VERSION:2.0
PRODID:-//ChamberMaster//Event Calendar 2.0//EN
METHOD:PUBLISH
X-PUBLISHED-TTL:P3D
REFRESH-INTERVAL:P3D
CALSCALE:GREGORIAN
BEGIN:VEVENT
DTSTART:20221008T140000Z
DTEND:20221008T180000Z
X-MICROSOFT-CDO-ALLDAYEVENT:FALSE
SUMMARY:Harvest Craft Fair ~ Car Show ~ Jazz ~ Food trucks
DESCRIPTION:2nd annual Oriol Foundation Harvest Fair! Join us on our Holden Campus for 40 unique crafters to shop from\, 4 food trucks\, classic car show and live jazz band! Raffles from vendors also! Take family photos by an antique truck decorated for fall pictures! Fun for the whole family. Free to all. See the Oriol Foundation facebook page for more details.
X-ALT-DESC;FMTTYPE=text/html:2nd annual Oriol Foundation Harvest Fair! Join us on our Holden Campus for 40 unique crafters to shop from\, 4 food trucks\, classic car show and live jazz band! Raffles from vendors also! Take family photos by an antique truck decorated for fall pictures! Fun for the whole family. Free to all. See the Oriol Foundation facebook page for more details.
LOCATION:52 Boyden Road\, Holden MA 01520 Outside in parking lot and on lawn
UID:e.2083.14742
SEQUENCE:3
DTSTAMP:20260421T142713Z
URL:https://business.cmschamber.org/events/details/harvest-craft-fair-car-show-jazz-food-trucks-14742
END:VEVENT

END:VCALENDAR
