BEGIN:VCALENDAR
VERSION:2.0
PRODID:-//ChamberMaster//Event Calendar 2.0//EN
METHOD:PUBLISH
X-PUBLISHED-TTL:P3D
REFRESH-INTERVAL:P3D
CALSCALE:GREGORIAN
BEGIN:VEVENT
DTSTART:20231105T160000Z
DTEND:20231105T200000Z
X-MICROSOFT-CDO-ALLDAYEVENT:FALSE
SUMMARY:Harvest Home Festival & 5K
DESCRIPTION:Join Community Harvest Project to celebrate the end of another successful season providing more than 250\,000 pounds of healthy produce for hunger relief! The annual Harvest Home Festival & 5K features kids activities\, a bouncy house\, an online auction\, food and drink\, live music\, pumpkin trebuchets\, apple cannons\, hayrides for all ages\, and more - fun for everyone! \n \n\nAdmission is $10 ($40 family cap). Kids under 5 are free. All 5K runners receive free admission to the festival. Cash\, credit\, debit\, or Venmo accepted.\n \n\nSchedule of Events\n\n10:15 am - 5K Registration & Check-In\n\n11:00 - 5K Begins & Festival Opens \n\n11:15 - Kids Fun Run\n\n12:00 pm - Live Music Featuring Big League Collective\n\n12:30 - Pumpkin trebuchets/apple cannons start\n\n11 am - 3 pm\n\n\n	\n	Food & Beverages Available for Purchase\n	\n	\n	Beer Truck \n	\n	\n	Lawn Games\n	\n	\n	Kids Activities\n	\n	\n	Hay Wagon Rides\n	\n	\n	Online Auction\n	\n	\n	And more!\n	\n\n \n\nThe event will take place at 37 Wheeler Road North Grafton\, MA. All proceeds support Community Harvest Project's mission to engage and educate volunteers to grow fruits and vegetables for hunger relief. Your attendance and donations will support your neighbors experiencing hunger. Visit community-harvest.org/events for more information.\n \n\nSign up for the 5k here: event.racereach.com/harvesthome5k  \n\nMake a donation to CHP: community-harvest.org/give\n\nTo sponsor this event\, donate an auction item\, or for questions\, please email events@community-harvest.org.
X-ALT-DESC;FMTTYPE=text/html:<p><span style="background-color:transparent\; color:rgb(0\, 0\, 0)\; font-family:arial\,sans-serif\; font-size:11pt">Join Community Harvest Project to celebrate the end of another successful season providing more than 250\,000 pounds of healthy produce for hunger relief! The annual Harvest Home Festival &amp\; 5K features kids activities\, a bouncy house\, an online auction\, food and drink\, live music\, pumpkin trebuchets\, apple cannons\, hayrides for all ages\, and more - fun for everyone!&nbsp\;</span></p>\n&nbsp\;\n\n<p><span style="background-color:transparent\; color:rgb(0\, 0\, 0)\; font-family:arial\,sans-serif\; font-size:11pt">Admission is $10 ($40 family cap). Kids under 5 are free. All 5K runners receive free admission to the festival. Cash\, credit\, debit\, or Venmo accepted.</span></p>\n&nbsp\;\n\n<p><span style="background-color:transparent\; color:rgb(0\, 0\, 0)\; font-family:arial\,sans-serif\; font-size:11pt">Schedule of Events</span></p>\n\n<p><span style="background-color:transparent\; color:rgb(0\, 0\, 0)\; font-family:arial\,sans-serif\; font-size:11pt">10:15 am - 5K Registration &amp\; Check-In</span></p>\n\n<p><span style="background-color:transparent\; color:rgb(0\, 0\, 0)\; font-family:arial\,sans-serif\; font-size:11pt">11:00 - 5K Begins &amp\; Festival Opens&nbsp\;</span></p>\n\n<p><span style="background-color:transparent\; color:rgb(0\, 0\, 0)\; font-family:arial\,sans-serif\; font-size:11pt">11:15 - Kids Fun Run</span></p>\n\n<p><span style="background-color:transparent\; color:rgb(0\, 0\, 0)\; font-family:arial\,sans-serif\; font-size:11pt">12:00 pm - Live Music Featuring </span><span style="color:rgb(34\, 34\, 34)\; font-family:arial\,sans-serif\; font-size:11pt">Big League Collective</span></p>\n\n<p><span style="background-color:transparent\; color:rgb(0\, 0\, 0)\; font-family:arial\,sans-serif\; font-size:11pt">12:30 - Pumpkin trebuchets/apple cannons start</span></p>\n\n<p><span style="background-color:transparent\; color:rgb(0\, 0\, 0)\; font-family:arial\,sans-serif\; font-size:11pt">11 am - 3 pm</span></p>\n\n<ul>\n	<li>\n	<p><span style="background-color:transparent\; font-size:11pt">Food &amp\; Beverages Available for Purchase</span></p>\n	</li>\n	<li>\n	<p><span style="background-color:transparent\; font-size:11pt">Beer Truck&nbsp\;</span></p>\n	</li>\n	<li>\n	<p><span style="background-color:transparent\; font-size:11pt">Lawn Games</span></p>\n	</li>\n	<li>\n	<p><span style="background-color:transparent\; font-size:11pt">Kids Activities</span></p>\n	</li>\n	<li>\n	<p><span style="background-color:transparent\; font-size:11pt">Hay Wagon Rides</span></p>\n	</li>\n	<li>\n	<p><span style="background-color:transparent\; font-size:11pt">Online Auction</span></p>\n	</li>\n	<li>\n	<p><span style="background-color:transparent\; font-size:11pt">And more!</span></p>\n	</li>\n</ul>\n&nbsp\;\n\n<p><span style="background-color:transparent\; color:rgb(0\, 0\, 0)\; font-family:arial\,sans-serif\; font-size:11pt">The event will take place at 37 Wheeler Road North Grafton\, MA. All proceeds support Community Harvest Project&rsquo\;s mission to engage and educate volunteers to grow fruits and vegetables for hunger relief. Your attendance and donations will support your neighbors experiencing hunger. Visit </span><a href="https://community-harvest.org/events/" style="text-decoration-line: none\;"><span style="background-color:transparent\; color:rgb(17\, 85\, 204)\; font-family:arial\,sans-serif\; font-size:11pt">community-harvest.org/events</span></a><span style="background-color:transparent\; color:rgb(0\, 0\, 0)\; font-family:arial\,sans-serif\; font-size:11pt"> for more information.</span></p>\n&nbsp\;\n\n<p><span style="background-color:transparent\; color:rgb(0\, 0\, 0)\; font-family:arial\,sans-serif\; font-size:11pt">Sign up for the 5k here: </span><a href="https://event.racereach.com/harvesthome5k" style="text-decoration-line: none\;"><span style="background-color:transparent\; color:rgb(17\, 85\, 204)\; font-family:arial\,sans-serif\; font-size:11pt">event.racereach.com/harvesthome5k</span></a><span style="background-color:transparent\; color:rgb(0\, 0\, 0)\; font-family:arial\,sans-serif\; font-size:11pt">&nbsp\;&nbsp\;</span></p>\n\n<p><span style="background-color:transparent\; color:rgb(0\, 0\, 0)\; font-family:arial\,sans-serif\; font-size:11pt">Make a donation to CHP: </span><a href="https://community-harvest.org/give/" style="text-decoration-line: none\;"><span style="background-color:transparent\; color:rgb(17\, 85\, 204)\; font-family:arial\,sans-serif\; font-size:11pt">community-harvest.org/give</span></a></p>\n\n<p><span style="background-color:transparent\; color:rgb(0\, 0\, 0)\; font-family:arial\,sans-serif\; font-size:11pt">To sponsor this event\, donate an auction item\, or for questions\, please email events@community-harvest.org.</span></p>\n\n<div>&nbsp\;</div>\n
LOCATION:Community Harvest Project 37 Wheeler Road North Grafton\, MA 01536
UID:e.2083.16459
SEQUENCE:3
DTSTAMP:20260420T171234Z
URL:https://business.cmschamber.org/events/details/harvest-home-festival-5k-16459
END:VEVENT

END:VCALENDAR
