BEGIN:VCALENDAR
VERSION:2.0
PRODID:-//ChamberMaster//Event Calendar 2.0//EN
METHOD:PUBLISH
X-PUBLISHED-TTL:P3D
REFRESH-INTERVAL:P3D
CALSCALE:GREGORIAN
BEGIN:VEVENT
DTSTART:20230510T160000Z
DTEND:20230510T170000Z
X-MICROSOFT-CDO-ALLDAYEVENT:FALSE
SUMMARY:Health Insurance Options for Small Business Owners
DESCRIPTION:On May 10th at 12PM\, join our Health Connector for Business team for a FREE virtual info session on health insurance options available to small employers and their employees. If you're a small employer (1-50 FTEs) and want to learn more\, register at https://malink.co/hcb-webinars-2023.
X-ALT-DESC;FMTTYPE=text/html:<span style="color:rgb(0\, 0\, 0)\; font-family:lato\,arial\,helvetica\,sans-serif\; font-size:16px">On May 10th at 12PM\, join our Health Connector for Business team for a FREE virtual info session on health insurance options available to small employers and their employees. If you&#39\;re a small employer (1-50 FTEs) and want to learn more\, register at&nbsp\;</span><a href="https://malink.co/hcb-webinars-2023" style="color: rgb(45\, 119\, 179)\; text-decoration-line: none\; font-family: Lato\, Arial\, Helvetica\, sans-serif\; font-size: 16px\;">https://malink.co/hcb-webinars-2023</a><span style="color:rgb(0\, 0\, 0)\; font-family:lato\,arial\,helvetica\,sans-serif\; font-size:16px">.&nbsp\;</span>\n<div>&nbsp\;</div>\n
LOCATION:Zoom
UID:e.2083.15937
SEQUENCE:3
DTSTAMP:20260421T024603Z
URL:https://business.cmschamber.org/events/details/health-insurance-options-for-small-business-owners-15937
END:VEVENT

END:VCALENDAR
