BEGIN:VCALENDAR
VERSION:2.0
PRODID:-//ChamberMaster//Event Calendar 2.0//EN
METHOD:PUBLISH
X-PUBLISHED-TTL:P3D
REFRESH-INTERVAL:P3D
CALSCALE:GREGORIAN
BEGIN:VEVENT
DTSTART:20200521T114500Z
DTEND:20200521T130000Z
X-MICROSOFT-CDO-ALLDAYEVENT:FALSE
SUMMARY:Healthcare Roundtable
DESCRIPTION:
X-ALT-DESC;FMTTYPE=text/html:
LOCATION:Worcester Regional Chamber of Commerce Fuller Conference Room 311 Main Street\, Suite 200 Worcester\, MA 01608
UID:e.2083.11683
SEQUENCE:3
DTSTAMP:20260423T100617Z
URL:https://business.cmschamber.org/events/details/healthcare-roundtable-11683
END:VEVENT

END:VCALENDAR
