BEGIN:VCALENDAR
VERSION:2.0
PRODID:-//ChamberMaster//Event Calendar 2.0//EN
METHOD:PUBLISH
X-PUBLISHED-TTL:P3D
REFRESH-INTERVAL:P3D
CALSCALE:GREGORIAN
BEGIN:VEVENT
DTSTART:20230804T120000Z
DTEND:20230804T200000Z
X-MICROSOFT-CDO-ALLDAYEVENT:FALSE
SUMMARY:Heart of New England Council Charity Golf Classic
DESCRIPTION:Enjoy a day of camaraderie and golf with community and business leaders\, while supporting a worthwhile cause. \n\nThe 41st annual Outing for Scouting Charity Golf Classic takes place Friday August 4\, 2023 at Juniper Hill Golf Course. The event is a team scramble\, best-ball competition with prizes for the top low net foursomes. \n\n\n\nProceeds from the event support Heart of New England Council's nationally recognized program of youth leadership and character development that serves 4\,000 boys and girls in Central Massachusetts. \n\n\n\nDuring the round\, participants have opportunities to win prizes including luxury vacations\, vehicles\, cash and more. Many of these are guaranteed prizes. Following the round\, golfers enjoy a full meal and awards reception\, with more great prizes available to be won.
X-ALT-DESC;FMTTYPE=text/html:Enjoy a day of camaraderie and golf with community and business leaders\, while supporting a worthwhile cause.&nbsp\;<br />\nThe 41st annual Outing for Scouting <a href="https://commerce.hnebsa.org/event/golf2023/" target="_blank">Charity Golf Classic</a> takes place Friday August 4\, 2023 at Juniper Hill Golf Course. The event is a team scramble\, best-ball competition with prizes for the top low net foursomes.&nbsp\;<br />\n<br />\nProceeds from the event support <a href="https://hnebsa.org/" target="_blank">Heart of New England Council&#39\;s</a> nationally recognized program of youth leadership and character development that serves 4\,000 boys and girls in Central Massachusetts.&nbsp\;<br />\n<br />\nDuring the round\, participants have opportunities to win prizes including luxury vacations\, vehicles\, cash and more. Many of these are guaranteed prizes. Following the round\, golfers enjoy a full meal and awards reception\, with more great prizes available to be won.&nbsp\;
LOCATION:Juniper Hill Golf Course 202 Brigham Street\, Northborough\, MA 01532
UID:e.2083.15974
SEQUENCE:3
DTSTAMP:20260420T211740Z
URL:https://business.cmschamber.org/events/details/heart-of-new-england-council-charity-golf-classic-15974
END:VEVENT

END:VCALENDAR
