BEGIN:VCALENDAR
VERSION:2.0
PRODID:-//ChamberMaster//Event Calendar 2.0//EN
METHOD:PUBLISH
X-PUBLISHED-TTL:P3D
REFRESH-INTERVAL:P3D
CALSCALE:GREGORIAN
BEGIN:VEVENT
DTSTART;VALUE=DATE:20221013
DTEND;VALUE=DATE:20221015
TRANSP:TRANSPARENT
X-MICROSOFT-CDO-ALLDAYEVENT:TRUE
SUMMARY:Historic New England Summit
DESCRIPTION:Historic New England is convening a major\, multi-disciplinary conference of professionals\, volunteers\, philanthropists\, thought leaders\, students\, and individuals with an interest in preservation issues to explore how 21st-century challenges and opportunities are being collectively addressed to create livable\, resilient communities.\n\n\n\nLeading voices from across the country explore significant preservation issues in the context of today's world including Climate Change Impact\, Remaking Cities in Post-industrial New England\, Sharing Inclusive Histories\, Technology and Globalizing Cultural Heritage\, Culture as Catalyst\, Agricultural Preservation\, Collections Management and Inherited Bias.
X-ALT-DESC;FMTTYPE=text/html:<span style="color:rgb(79\, 79\, 79)\; font-family:libre franklin\,sans-serif\; font-size:16px">Historic New England is convening a major\, multi-disciplinary conference of professionals\, volunteers\, philanthropists\, thought leaders\, students\, and individuals with an interest in preservation issues to explore how 21st-century challenges and opportunities are being collectively addressed to create livable\, resilient communities.</span><br />\n<br />\n<span style="color:rgb(79\, 79\, 79)\; font-family:libre franklin\,sans-serif\; font-size:16px">Leading voices from across the country explore significant preservation issues in the context of today&rsquo\;s world including Climate Change Impact\, Remaking Cities in Post-industrial New England\, Sharing Inclusive Histories\, Technology and Globalizing Cultural Heritage\, Culture as Catalyst\, Agricultural Preservation\, Collections Management and Inherited Bias.</span>
LOCATION:Mechanics Hall 321 Main Street Worcester\, MA 01608
UID:e.2083.13994
SEQUENCE:3
DTSTAMP:20260421T154720Z
URL:https://business.cmschamber.org/events/details/historic-new-england-summit-13994
END:VEVENT

END:VCALENDAR
