BEGIN:VCALENDAR
VERSION:2.0
PRODID:-//ChamberMaster//Event Calendar 2.0//EN
METHOD:PUBLISH
X-PUBLISHED-TTL:P3D
REFRESH-INTERVAL:P3D
CALSCALE:GREGORIAN
BEGIN:VEVENT
DTSTART:20230125T160000Z
DTEND:20230125T170000Z
X-MICROSOFT-CDO-ALLDAYEVENT:FALSE
SUMMARY:HOLD: FSRT with Brian Haugli of SideChannel
DESCRIPTION:
X-ALT-DESC;FMTTYPE=text/html:
LOCATION:
UID:e.2083.14951
SEQUENCE:3
DTSTAMP:20260421T093321Z
URL:https://business.cmschamber.org/events/details/hold-fsrt-with-brian-haugli-of-sidechannel-14951
END:VEVENT

END:VCALENDAR
