BEGIN:VCALENDAR
VERSION:2.0
PRODID:-//ChamberMaster//Event Calendar 2.0//EN
METHOD:PUBLISH
X-PUBLISHED-TTL:P3D
REFRESH-INTERVAL:P3D
CALSCALE:GREGORIAN
BEGIN:VEVENT
DTSTART:20220823T213000Z
DTEND:20220824T003000Z
X-MICROSOFT-CDO-ALLDAYEVENT:FALSE
SUMMARY:HomeSafe Post-Purchase Workshop for Homeowners (August 2022)
DESCRIPTION:Congratulations\, you bought a house! Now what? By attending RCAP Solutions' HomeSafe Post-Purchase workshop you will sharpen your knowledge and become equipped with the necessary skills to maintain your home and finances.
X-ALT-DESC;FMTTYPE=text/html:<p>Congratulations\, you bought a house! Now what? By attending RCAP Solutions&rsquo\; HomeSafe Post-Purchase workshop you will sharpen your knowledge and become equipped with the necessary skills to maintain your home and finances.</p>\n
LOCATION:Online
UID:e.2083.13867
SEQUENCE:3
DTSTAMP:20260421T184346Z
URL:https://business.cmschamber.org/events/details/homesafe-post-purchase-workshop-for-homeowners-august-2022-13867
END:VEVENT

END:VCALENDAR
