BEGIN:VCALENDAR
VERSION:2.0
PRODID:-//ChamberMaster//Event Calendar 2.0//EN
METHOD:PUBLISH
X-PUBLISHED-TTL:P3D
REFRESH-INTERVAL:P3D
CALSCALE:GREGORIAN
BEGIN:VEVENT
DTSTART:20230822T213000Z
DTEND:20230823T003000Z
X-MICROSOFT-CDO-ALLDAYEVENT:FALSE
SUMMARY:HomeSafe Post-Purchase Workshop for Homeowners (August 2023)
DESCRIPTION:Congratulations\, you bought a house! Now what? By attending RCAP Solutions' HomeSafe Post-Purchase workshop you will sharpen your knowledge and become equipped with the necessary skills to maintain your home and finances.
X-ALT-DESC;FMTTYPE=text/html:<p>Congratulations\, you bought a house! Now what? By attending RCAP Solutions&#39\; HomeSafe Post-Purchase workshop you will sharpen your knowledge and become equipped with the necessary skills to maintain your home and finances.</p>\n
LOCATION:Online
UID:e.2083.16022
SEQUENCE:3
DTSTAMP:20260420T225010Z
URL:https://business.cmschamber.org/events/details/homesafe-post-purchase-workshop-for-homeowners-august-2023-08-22-2023-16022
END:VEVENT

END:VCALENDAR
