BEGIN:VCALENDAR
VERSION:2.0
PRODID:-//ChamberMaster//Event Calendar 2.0//EN
METHOD:PUBLISH
X-PUBLISHED-TTL:P3D
REFRESH-INTERVAL:P3D
CALSCALE:GREGORIAN
BEGIN:VEVENT
DTSTART:20230620T213000Z
DTEND:20230621T003000Z
X-MICROSOFT-CDO-ALLDAYEVENT:FALSE
SUMMARY:HomeSafe Post-Purchase Workshop for Homeowners (June 20 & 22\, 2023)
DESCRIPTION:Congratulations\, you bought a house! Now what? By attending RCAP Solutions' HomeSafe Post-Purchase workshop you will sharpen your knowledge and become equipped with the necessary skills to maintain your home and finances.
X-ALT-DESC;FMTTYPE=text/html:<p>Congratulations\, you bought a house! Now what? By attending RCAP Solutions&#39\; HomeSafe Post-Purchase workshop you will sharpen your knowledge and become equipped with the necessary skills to maintain your home and finances.</p>\n
LOCATION:Online
UID:e.2083.15293
SEQUENCE:3
DTSTAMP:20260421T005052Z
URL:https://business.cmschamber.org/events/details/homesafe-post-purchase-workshop-for-homeowners-june-20-22-2023-15293
END:VEVENT

END:VCALENDAR
