BEGIN:VCALENDAR
VERSION:2.0
PRODID:-//ChamberMaster//Event Calendar 2.0//EN
METHOD:PUBLISH
X-PUBLISHED-TTL:P3D
REFRESH-INTERVAL:P3D
CALSCALE:GREGORIAN
BEGIN:VEVENT
DTSTART:20230117T180000Z
DTEND:20230117T193000Z
X-MICROSOFT-CDO-ALLDAYEVENT:FALSE
SUMMARY:How Servant Leadership Saved My Company
DESCRIPTION:Once you have employees\, your business changes. Leadership isn't defined by what you lead\, but how you lead. Who do you put first at your business? Yourself? Your team? Your customers? There are no right or wrong answers\, but the struggles of the last several years are revealing one that works better to keep companies together   at least in the case of Vision Advertising: servant leadership.\n\nJoin COO Julia Becker Collins on how she's kept her team together and morale high\, even under the incredible strain of the pandemic\, medical emergencies\, and other crises\, by being a servant leader\, including:\n\n\n	Julia tells her story\, including using it as common examples of difficult leadership moments.\n	Learning the basics of servant leadership and the practical side of selfless leaders.\n	The best leadership is taught: how you need to take an active role in your leadership style. \n	Understanding how leadership = people management and why people leave companies.\n	Leadership during crisis: how to plan for situations and prepare your team.
X-ALT-DESC;FMTTYPE=text/html:<p>Once you have employees\, your business changes. Leadership isn&rsquo\;t defined by what you lead\, but how you lead. Who do you put first at your business? Yourself? Your team? Your customers? There are no right or wrong answers\, but the struggles of the last several years are revealing one that works better to keep companies together &ndash\; at least in the case of Vision Advertising: servant leadership.</p>\n\n<p>Join COO Julia Becker Collins on how she&rsquo\;s kept her team together and morale high\, even under the incredible strain of the pandemic\, medical emergencies\, and other crises\, by being a servant leader\, including:</p>\n\n<ul>\n	<li>Julia tells her story\, including using it as common examples of difficult leadership moments.</li>\n	<li>Learning the basics of servant leadership and the practical side of selfless leaders.</li>\n	<li>The best leadership is taught: how you need to take an active role in your leadership style.&nbsp\;</li>\n	<li>Understanding how leadership = people management and why people leave companies.</li>\n	<li>Leadership during crisis: how to plan for situations and prepare your team.</li>\n</ul>\n
LOCATION:Zoom
UID:e.2083.14977
SEQUENCE:3
DTSTAMP:20260421T111119Z
URL:https://business.cmschamber.org/events/details/how-servant-leadership-saved-my-company-14977
END:VEVENT

END:VCALENDAR
