BEGIN:VCALENDAR
VERSION:2.0
PRODID:-//ChamberMaster//Event Calendar 2.0//EN
METHOD:PUBLISH
X-PUBLISHED-TTL:P3D
REFRESH-INTERVAL:P3D
CALSCALE:GREGORIAN
BEGIN:VEVENT
DTSTART:20210323T160000Z
DTEND:20210323T170000Z
X-MICROSOFT-CDO-ALLDAYEVENT:FALSE
SUMMARY:Vision Board & Beyond For Entrepreneurs: How To Build A Multi-Million Dollar Business And Manifest Your Miracles
DESCRIPTION:Do you dream in color or black and white? The answer to this question can be the difference between MASSIVE success as an entrepreneur and a business filled with frustration\, overwhelm\, and disappointment.   If you really want your dreams to come true\, if you want true happiness as an entrepreneur\, you must be able to DREAM BIG in Ultra-High Definition\, QLED 8K\, 1080P\, Vibrant Explosive Color!   Ok\, a bit much\, but hopefully you get my drift.J\n\n\n\nI am constantly meeting entrepreneurs that are really "wantrepreneurs".   They dabble\, they don't dream.   They have a job\; they are not building a business that gives them happiness and freedom.  If you want to live like the top 1%\, if you want to build a multi-million dollar company\, you need to have a crystal-clear vision of the incredible future for you\, your business\, and your loved ones.  As entrepreneurs\, we must create a vision of our DREAM BUSINESS that is blended with the vision of our DREAM LIFE.   Our mind is a beautiful\, delicate recording device.   If we constantly feed it with big dreams\, powerful visions\, and positive energy\, we will be propelled into taking massive action.  Eventually\, those things we desire most in life will magically begin to show up.   Pretty cool!\n\n\n\nThe #1 secret of the greatest entrepreneurs in the world is their ability to visualize the future. They refuse to let setbacks or failures dampen their spirits.   A strategically crafted Vision Board will always keep your personal and professional dreams front and center.   Join me and hundreds of entrepreneurs as we dig into the INCREDIBLE POWER OF VISUALIZATION!
X-ALT-DESC;FMTTYPE=text/html:<span style="color:black"><span style="font-family:calibri"><span style="font-size:14.0pt">Do you dream in color or black and white? The answer to this question can be the difference between MASSIVE success as an entrepreneur and a business filled with frustration\, overwhelm\, and disappointment.&nbsp\;&nbsp\; If you really want your dreams to come true\, if you want true happiness as an entrepreneur\, you must be able to DREAM BIG in Ultra-High Definition\, QLED 8K\, 1080P\, Vibrant Explosive Color!&nbsp\;&nbsp\; Ok\, a bit much\, but hopefully you get my drift.</span></span></span><span style="color:black"><span style="font-family:wingdings"><span style="font-size:14.0pt">J</span></span></span><br />\n<br />\n<span style="color:black"><span style="font-family:calibri"><span style="font-size:14.0pt">I am constantly meeting entrepreneurs that are really &ldquo\;wantrepreneurs&rdquo\;.&nbsp\;&nbsp\; They dabble\, they don&rsquo\;t dream.&nbsp\;&nbsp\; They have a job\; they are not building a business that gives them happiness and freedom.&nbsp\; If you want to live like the top 1%\, if you want to build a multi-million dollar company\, you need to have a crystal-clear vision of the incredible future for you\, your business\, and your loved ones.&nbsp\; As entrepreneurs\, we must create a vision of our </span></span></span><strong><span style="color:black"><span style="font-family:calibri"><span style="font-size:14.0pt">DREAM BUSINESS </span></span></span></strong><span style="color:black"><span style="font-family:calibri"><span style="font-size:14.0pt">that is </span></span></span><em><span style="color:blue"><span style="font-family:calibri"><span style="font-size:14.0pt">blended </span></span></span></em><span style="color:black"><span style="font-family:calibri"><span style="font-size:14.0pt">with the vision of our </span></span></span><strong><span style="color:black"><span style="font-family:calibri"><span style="font-size:14.0pt">DREAM LIFE</span></span></span></strong><span style="color:black"><span style="font-family:calibri"><span style="font-size:14.0pt">.&nbsp\;&nbsp\; Our mind is a beautiful\, delicate recording device.&nbsp\;&nbsp\; If we constantly feed it with big dreams\, powerful visions\, and positive energy\, we will be propelled into taking massive action.&nbsp\; Eventually\, those things we desire most in life will magically begin to show up.&nbsp\;&nbsp\; Pretty cool!</span></span></span><br />\n<br />\n<span style="color:black"><span style="font-family:calibri"><span style="font-size:14.0pt">The #1 secret of the greatest entrepreneurs in the world is their ability to visualize the future. They refuse to let setbacks or failures dampen their spirits.&nbsp\;&nbsp\; A strategically crafted Vision Board will always keep your personal and professional dreams front and center.&nbsp\;&nbsp\; Join me and hundreds of entrepreneurs as we dig into the INCREDIBLE POWER OF VISUALIZATION!</span></span></span>
LOCATION:LIVE ZOOOM EVENT Hi there\, You are invited to a Zoom meeting. When: Mar 23\, 2021 12:00 PM Eastern Time (US and Canada) Register in advance for this meeting: https://us02web.zoom.us/meeting/register/tZwsdu6uqjksH9QiEM_3nZ7IxlAZx928vOXa After registering\, you will receive a confirmation email containing information about joining the meeting.
UID:e.2083.12722
SEQUENCE:3
DTSTAMP:20260422T180023Z
URL:https://business.cmschamber.org/events/details/how-to-build-a-multi-million-dollar-business-vision-board-beyond-for-entrepreneurs-12722
END:VEVENT

END:VCALENDAR
