BEGIN:VCALENDAR
VERSION:2.0
PRODID:-//ChamberMaster//Event Calendar 2.0//EN
METHOD:PUBLISH
X-PUBLISHED-TTL:P3D
REFRESH-INTERVAL:P3D
CALSCALE:GREGORIAN
BEGIN:VEVENT
DTSTART:20220809T140000Z
DTEND:20220809T153000Z
X-MICROSOFT-CDO-ALLDAYEVENT:FALSE
SUMMARY:How to Build a Website in a Day!
DESCRIPTION:How to Build a Website in a Day ??\n\nThere are several great tools available to help build a website. And guess what? You do not need to be a technical guru to get it done. During this 90-minute interactive webinar\, you will learn how to build a website using a tool called Squarespace.\n\nThe presenter will be Rob DelMastro\, senior business advisor with the MSBDC Central Regional Office.\n\nDate: Tuesday\, August 9\, 2022\n\nTime: 10:00 - 11:30 a.m. EDT\n\nLocation: Online\n\nCost: No charge\n\nContact: Sarah Doran at the MSBDC Central Regional Office at sadoran@clarku.edu
X-ALT-DESC;FMTTYPE=text/html:<p><span style="font-size:14px"><strong>How to Build a Website in a Day ??</strong></span></p>\n\n<p>There are several great tools available to help build a website. And guess what? You do not need to be a technical guru to get it done. During this 90-minute interactive webinar\, you will learn how to build a website using a tool called Squarespace.</p>\n\n<p>The presenter will be Rob DelMastro\, senior business advisor with the MSBDC Central Regional Office.</p>\n\n<p><strong>Date:</strong>&nbsp\;Tuesday\, August 9\, 2022<br />\n<strong>Time:&nbsp\;</strong>10:00 - 11:30 a.m. EDT<br />\n<strong>Location:&nbsp\;</strong>Online<br />\n<strong>Cost:</strong>&nbsp\;No charge<br />\n<strong>Contact:</strong>&nbsp\;Sarah Doran at the MSBDC Central Regional Office at&nbsp\;<a href="mailto:sadoran@clarku.edu" style="color: rgb(136\, 28\, 28)\; text-decoration-line: none\;">sadoran@clarku.edu</a>&nbsp\;</p>\n
LOCATION:Zoom Meeting - please register for link
UID:e.2083.13997
SEQUENCE:3
DTSTAMP:20260421T184500Z
URL:https://business.cmschamber.org/events/details/how-to-build-a-website-in-a-day-13997
END:VEVENT

END:VCALENDAR
