BEGIN:VCALENDAR
VERSION:2.0
PRODID:-//ChamberMaster//Event Calendar 2.0//EN
METHOD:PUBLISH
X-PUBLISHED-TTL:P3D
REFRESH-INTERVAL:P3D
CALSCALE:GREGORIAN
BEGIN:VEVENT
DTSTART:20220531T170000Z
DTEND:20220531T180000Z
X-MICROSOFT-CDO-ALLDAYEVENT:FALSE
SUMMARY:How To Get A Loan
DESCRIPTION:Fact: access to capital remains the single biggest roadblock for women businessowners. And today\, as soaring inflation\, price hikes\, supply chain disruptions\, and hiring challenges compound the pandemic struggles of the past two years\, a strong financial foundation is more important than ever. We all love free money\, but with grants few and far between\, business loans are one of the most powerful tools for allowing entrepreneurs to launch\, grow\, and realize their full earning potential. During this workshop you will learn:  \n\n\n	The different types of business loans and how to know which loan option is best for you \n	What financial lenders are looking for when you apply for a loan \n	What to prepare when you're ready to approach a lender \n	How to get past a poor credit score \n	How to evaluate a loan offer \n\n\nDuring this session you will hear from a variety of lenders\, from traditional bank lenders\, micro-lenders and CDFI's. Join us and learn everything you need to know to make the right financial decisions for you and your business.
X-ALT-DESC;FMTTYPE=text/html:<p>Fact: access to capital remains the single biggest roadblock for women businessowners. And today\, as soaring inflation\, price hikes\, supply chain disruptions\, and hiring challenges compound the pandemic struggles of the past two years\, a strong financial foundation is more important than ever. We all love free money\, but with grants few and far between\, business loans are one of the most powerful tools for allowing entrepreneurs to launch\, grow\, and realize their full earning potential. During this workshop you will learn: &nbsp\;</p>\n\n<ul>\n	<li>The different types of business loans and how to know which loan option is best for you&nbsp\;</li>\n	<li>What financial lenders are looking for when you apply for a loan&nbsp\;</li>\n	<li>What to prepare when you&rsquo\;re ready to approach a lender&nbsp\;</li>\n	<li>How to get past a poor credit score&nbsp\;</li>\n	<li>How to evaluate a loan offer&nbsp\;</li>\n</ul>\n\n<p>During this session you will hear from a variety of lenders\, from traditional bank lenders\, micro-lenders and CDFI&#39\;s. Join us and learn everything you need to know to make the right financial decisions for you and your business.&nbsp\;</p>\n
LOCATION:Zoom
UID:e.2083.13947
SEQUENCE:3
DTSTAMP:20260421T231535Z
URL:https://business.cmschamber.org/events/details/how-to-get-a-loan-13947
END:VEVENT

END:VCALENDAR
