BEGIN:VCALENDAR
VERSION:2.0
PRODID:-//ChamberMaster//Event Calendar 2.0//EN
METHOD:PUBLISH
X-PUBLISHED-TTL:P3D
REFRESH-INTERVAL:P3D
CALSCALE:GREGORIAN
BEGIN:VEVENT
DTSTART:20211021T160000Z
DTEND:20211021T170000Z
X-MICROSOFT-CDO-ALLDAYEVENT:FALSE
SUMMARY:How to Land Your First Client\, Part 3
DESCRIPTION:Idea generated\, business started\, and ready to make your first sale\, but no clients banging on your door yet? This is an all-too-common problem\, and the best solution is an effective marketing strategy. In this three-part come-to-one-or-come-to-all series\, we will focus on the often-missed concepts and tools needed to land your first client and create a pipeline of new clients for years to come.\n\nIn this final session\, we will cover social media marketing. Your future clients are out there on social media right now. We will discuss how to reach more people\, engage more people\, and convert more people to sales through the most effective social media strategies and tactics. You will learn:\n\n\n	Social media growth strategies\n	Facebook growth strategies\n	Instagram growth strategies\n\n\nAbout the instructor: Jamie Cocco is the founder of Empowered Social Media. He is a self proclaimed social media nerd who has spent the last 7 years of his life dedicated to understanding\, optimizing\, and teaching others how to use social media effectively. Jamie has presented to hundreds of professionals on social media and marketing strategy\, has spent thousands of hours honing his skills\, and has spent over $100\,000 on social media ads figuring out what works and doesn't work. He has worked with over 100 local businesses from restaurants\, health and fitness centers\, racing event companies\, real estate agents\, and photographers to non-profits and local chambers of commerce. Jamie is passionate about social media\, helping others\, and the community.
X-ALT-DESC;FMTTYPE=text/html:<p>Idea generated\, business started\, and ready to make your first sale\, but no clients banging on your door yet? This is an all-too-common problem\, and the best solution is an effective marketing strategy. In this three-part come-to-one-or-come-to-all series\, we will focus on the often-missed concepts and tools needed to land your first client and create a pipeline of new clients for years to come.</p>\n\n<p>In this final session\, we will cover&nbsp\;<strong><em>social media marketing</em></strong>. Your future clients are out there on social media right now. We will discuss how to reach more people\, engage more people\, and convert more people to sales through the most effective social media strategies and tactics. You will learn:</p>\n\n<ul>\n	<li>Social media growth strategies</li>\n	<li>Facebook growth strategies</li>\n	<li>Instagram growth strategies</li>\n</ul>\n\n<p><strong>About the instructor:&nbsp\;</strong>Jamie Cocco is the founder of Empowered Social Media. He is a self proclaimed social media nerd who has spent the last 7 years of his life dedicated to understanding\, optimizing\, and teaching others how to use social media effectively. Jamie has presented to hundreds of professionals on social media and marketing strategy\, has spent thousands of hours honing his skills\, and has spent over $100\,000 on social media ads figuring out what works and doesn&rsquo\;t work. He has worked with over 100 local businesses from restaurants\, health and fitness centers\, racing event companies\, real estate agents\, and photographers to non-profits and local chambers of commerce. Jamie is passionate about social media\, helping others\, and the community.</p>\n
LOCATION:Online.
UID:e.2083.13180
SEQUENCE:3
DTSTAMP:20260422T074859Z
URL:https://business.cmschamber.org/events/details/how-to-land-your-first-client-part-3-13180
END:VEVENT

END:VCALENDAR
