BEGIN:VCALENDAR
VERSION:2.0
PRODID:-//ChamberMaster//Event Calendar 2.0//EN
METHOD:PUBLISH
X-PUBLISHED-TTL:P3D
REFRESH-INTERVAL:P3D
CALSCALE:GREGORIAN
BEGIN:VEVENT
DTSTART:20220524T170000Z
DTEND:20220524T183500Z
X-MICROSOFT-CDO-ALLDAYEVENT:FALSE
SUMMARY:How to Launch Your Dream Business In 90 Days Without Letting Overthinking Hold You Back
DESCRIPTION:This workshop is for you if \n\n	You have an idea for a service-based business and you want to BE YOUR OWN BOSS doing what you're passionate about AND be able to support yourself financially.\n	You're drained after hours at the ole' day job\, and feel overwhelmed with all the things you need to do to get started. You're not sure what the RIGHT first step is.\n	You feel like you don't know anything about marketing\, and you're secretly wondering if you'll really be able to find clients that will actually buy from you.\n\nYou'll learn how to...\n\n\n	Avoid the THREE BIG MISTAKES that are keeping you stuck\, overwhelmed\, and preventing you from launching your business.\n	Learn the roadmap to go from zero to launch\, so you know what steps to take   and in what order. This is the same roadmap I used to get to six figures in my business less than a year after launching.\n	The #1 FREE method you need to market your business without feeling spammy or sleazy. Get dream clients that want to buy from you finding you.\n	Unlock the secret to launch your dream business with CONFIDENCE!\n\n\nMeet the Instructor: \n\nTasha Prados helps service-based entrepreneurs build their dream businesses. As CEO & Founder of Duraca Strategic\, Tasha partners with passion and purpose-driven organizations to help them maximize their impact through business\, branding\, and marketing strategy consulting. She is a bilingual and multicultural strategist with ten years of project management\, communications\, and marketing experience with the world's leading brands\, publishers\, and nonprofits. She's received over a dozen industry awards\, including from the Shorty Social Good Awards\, the Public Relations Society of America\, and the American Advertising Federation. Catch her on Instagram @duraca.strategic.
X-ALT-DESC;FMTTYPE=text/html:<div>This workshop is for you if&hellip\;\n<ul>\n	<li>You have an idea for a service-based business and you want to BE YOUR OWN BOSS doing what you&rsquo\;re passionate about AND be able to support yourself financially.</li>\n	<li>You&rsquo\;re drained after hours at the ole&rsquo\; day job\, and feel overwhelmed with all the things you need to do to get started. You&rsquo\;re not sure what the RIGHT first step is.</li>\n	<li>You feel like you don&rsquo\;t know anything about marketing\, and you&rsquo\;re secretly wondering if you&rsquo\;ll really be able to find clients that will actually buy from you.</li>\n</ul>\nYou&#39\;ll learn how to...</div>\n\n<ul>\n	<li>Avoid the THREE BIG MISTAKES that are keeping you stuck\, overwhelmed\, and preventing you from launching your business.</li>\n	<li>Learn the roadmap to go from zero to launch\, so you know what steps to take &mdash\; and in what order. This is the same roadmap I used to get to six figures in my business less than a year after launching.</li>\n	<li>The #1 FREE method you need to market your business without feeling spammy or sleazy. Get dream clients that want to buy from you finding you.</li>\n	<li>Unlock the secret to launch your dream business with CONFIDENCE!</li>\n</ul>\n\n<p>Meet the Instructor:&nbsp\;</p>\n\n<div>Tasha Prados helps service-based entrepreneurs build their dream businesses. As CEO &amp\; Founder of&nbsp\;<a href="https://www.duracastrategic.com/" rel="noopener noreferrer" style="color: rgb(45\, 119\, 179)\; text-decoration-line: none\;" target="_blank">Duraca Strategic</a>\, Tasha partners with passion and purpose-driven organizations to help them maximize their impact through business\, branding\, and marketing strategy consulting. She is a bilingual and multicultural strategist with ten years of project management\, communications\, and marketing experience with the world&rsquo\;s leading brands\, publishers\, and nonprofits. She&#39\;s received over a dozen industry awards\, including from the Shorty Social Good Awards\, the Public Relations Society of America\, and the American Advertising Federation. Catch her on Instagram&nbsp\;<a href="https://www.instagram.com/duraca.strategic/" rel="noopener noreferrer" style="color: rgb(45\, 119\, 179)\; text-decoration-line: none\;" target="_blank">@duraca.strategic</a>.</div>\n
LOCATION:Zoom
UID:e.2083.13944
SEQUENCE:3
DTSTAMP:20260421T215655Z
URL:https://business.cmschamber.org/events/details/how-to-launch-your-dream-business-in-90-days-without-letting-overthinking-hold-you-back-13944
END:VEVENT

END:VCALENDAR
