BEGIN:VCALENDAR
VERSION:2.0
PRODID:-//ChamberMaster//Event Calendar 2.0//EN
METHOD:PUBLISH
X-PUBLISHED-TTL:P3D
REFRESH-INTERVAL:P3D
CALSCALE:GREGORIAN
BEGIN:VEVENT
DTSTART:20220119T160000Z
DTEND:20220119T170000Z
X-MICROSOFT-CDO-ALLDAYEVENT:FALSE
SUMMARY:HR Roundtable: I9 Compliance
DESCRIPTION:View the recorded webinar. (Passcode: 52aG!4j.)\n\n\n\nDownload the slide deck.\n\n\n\nJoin Us for Our Next Chamber HR Roundtable:\n\nIMMIGRATION & I-9 COMPLIANCE WORKSHOP\n\nThe New Rules & Best Practices\n\n \n\n \n\nChanges in immigration law affect our local employers in most every industry\, including our two largest sectors: healthcare and higher education. \n\n \n\nJoin immigration attorneys from Iandoli Desai & Cronin P.C.\, Mary Walsh and  Madeline Cronin\, to discuss changes in immigration laws\, work visas and I-9 compliance issues. Make sure your company is prepared and aware of changes under the current administration. \n\n \n\nI-9 Compliance Information including:\n\n  What's new on the I-9 form\n\n  What to expect in an audit \n\n  How to avoid the most common I-9 mistakes\n\n \n\nVisa information including:\n\n  Employer responsibility & requirements\n\n  Employee eligibility\n\n  The H-1B visa lottery and staff who may need to enter by mid-March\n\n  Application processes and timing\n\n  OPT/STEM status \n\n  Alternative work visa categories to the H-1B\n\n \n\nOpen discussion\n\n  Talk with peers to discuss challenges & best practices\n\n  Ask for advice on current issues
X-ALT-DESC;FMTTYPE=text/html:<span style="font-family: calibri\; font-size: 21.3333px\; font-weight: bold\;"><u><a href="https://us06web.zoom.us/rec/share/ar406o-yOMdz3I2sWghkjLIwJDyuoP7N8kTxiAyqUmVfDj9od7H4xD-jfvSYe-P0.C6XJ4AMWVk7osVn7"><span style="color:#B22222\;">View the recorded webinar</span></a></u><span style="color:#B22222\;">. <strong><span style="font-size:12px\;"><span style="font-family:tahoma\;">(</span></span></strong></span></span><span style="color:#B22222\;"><strong><span style="font-size:12px\;"><span style="font-family:tahoma\;">Passcode: 52aG!4j.)</span></span></strong></span><br />\n<br />\n<span style="font-family: calibri\; font-size: 21.3333px\; font-weight: bold\;"><u><a href="https://chambermaster.blob.core.windows.net/userfiles/UserFiles/chambers/2083/File/WorcesterChamberI-9Jan2022.pptx"><span style="color:#B22222\;">Download the slide deck</span></a></u><span style="color:#B22222\;">.</span><br />\n<br />\nJoin Us for Our Next&nbsp\;Chamber HR Roundtable:</span><br />\n<strong><span style="text-transform:uppercase\;"><span style="font-family:arial\,sans-serif\;"><span style="font-size:11.5pt\;">IMMIGRATION &amp\; </span></span></span><span style="font-family:arial\,sans-serif\;"><span style="font-size:11.5pt\;">I-9 COMPLIANCE&nbsp\;</span></span></strong><strong><span style="text-transform:uppercase\;"><span style="font-family:arial\,sans-serif\;"><span style="font-size:11.5pt\;">WORKSHOP</span></span></span></strong><br />\n<strong><span style="font-family:arial\,sans-serif\;"><span style="font-size:11.5pt\;">The New Rules &amp\; Best Practices</span></span></strong><br />\n&nbsp\;<br />\n&nbsp\;<br />\n<span style="color:black\;"><span style="font-family:calibri\;"><span style="font-size:14pt\;">Changes in immigration law affect our local employers in most every industry\, including our two largest sectors: healthcare and higher education. </span></span></span><br />\n&nbsp\;<br />\n<span style="language:en-US\;"><span style="color:black\;"><span style="font-family:calibri\;"><span style="font-size:12.0pt\;">Join immigration&nbsp\;attorneys from&nbsp\;Iandoli</span></span></span></span>&nbsp\;<span style="language:en-US\;"><span style="color:black\;"><span style="font-family:calibri\;"><span style="font-size:12.0pt\;">Desai&nbsp\;&amp\; Cronin P.C.\,&nbsp\;Mary Walsh and&nbsp\; Madeline Cronin\, to discuss changes in immigration laws\, work visas and I-9 compliance issues. Make sure your company is prepared and aware of changes under the current administration.&nbsp\;</span></span></span></span><br />\n&nbsp\;<br />\n<span style="font-weight:bold\;language:en-US\;"><span style="color:black\;"><span style="font-family:calibri\;"><span style="font-size:12.0pt\;">I-9 Compliance Information including:</span></span></span></span><br />\n<span style="direction:ltr\;unicode-bidi:embed\;language:x-none\;"><span style="color:black\;"><span style="font-size:10.0pt\;"><span style="font-family:symbol\;">&middot\;</span></span></span></span>&nbsp\;<span style="language:en-US\;"><span style="color:black\;"><span style="font-family:calibri\;"><span style="font-size:12.0pt\;">What&#39\;s new on the I-9 form</span></span></span></span><br />\n<span style="direction:ltr\;unicode-bidi:embed\;language:x-none\;"><span style="color:black\;"><span style="font-size:10.0pt\;"><span style="font-family:symbol\;">&middot\;</span></span></span></span>&nbsp\;<span style="language:en-US\;"><span style="color:black\;"><span style="font-family:calibri\;"><span style="font-size:12.0pt\;">What to expect in an audit </span></span></span></span><br />\n<span style="direction:ltr\;unicode-bidi:embed\;language:x-none\;"><span style="color:black\;"><span style="font-size:10.0pt\;"><span style="font-family:symbol\;">&middot\;</span></span></span></span>&nbsp\;<span style="language:en-US\;"><span style="color:black\;"><span style="font-family:calibri\;"><span style="font-size:12.0pt\;">How to avoid the most common I-9 mistakes</span></span></span></span><br />\n&nbsp\;<br />\n<span style="font-weight:bold\;language:en-US\;"><span style="color:black\;"><span style="font-family:calibri\;"><span style="font-size:12.0pt\;">Visa information including:</span></span></span></span><br />\n<span style="direction:ltr\;unicode-bidi:embed\;"><span style="color:black\;"><span style="font-size:10.0pt\;"><span style="font-family:symbol\;">&middot\;</span></span></span></span>&nbsp\;<span style="language:en-US\;"><span style="color:black\;"><span style="font-family:calibri\;"><span style="font-size:12.0pt\;">Employer responsibility &amp\; requirements</span></span></span></span><br />\n<span style="direction:ltr\;unicode-bidi:embed\;"><span style="color:black\;"><span style="font-size:10.0pt\;"><span style="font-family:symbol\;">&middot\;</span></span></span></span>&nbsp\;<span style="language:en-US\;"><span style="color:black\;"><span style="font-family:calibri\;"><span style="font-size:12.0pt\;">Employee eligibility</span></span></span></span><br />\n<span style="direction:ltr\;unicode-bidi:embed\;"><span style="color:black\;"><span style="font-size:10.0pt\;"><span style="font-family:symbol\;">&middot\;</span></span></span></span>&nbsp\;<span style="language:en-US\;"><span style="color:black\;"><span style="font-family:calibri\;"><span style="font-size:12.0pt\;">The&nbsp\;H-1B&nbsp\;visa lottery and staff who may need to enter by mid-March</span></span></span></span><br />\n<span style="direction:ltr\;unicode-bidi:embed\;"><span style="color:black\;"><span style="font-size:10.0pt\;"><span style="font-family:symbol\;">&middot\;</span></span></span></span>&nbsp\;<span style="language:en-US\;"><span style="color:black\;"><span style="font-family:calibri\;"><span style="font-size:12.0pt\;">Application processes and timing</span></span></span></span><br />\n<span style="direction:ltr\;unicode-bidi:embed\;"><span style="color:black\;"><span style="font-size:10.0pt\;"><span style="font-family:symbol\;">&middot\;</span></span></span></span>&nbsp\;<span style="language:en-US\;"><span style="color:black\;"><span style="font-family:calibri\;"><span style="font-size:12.0pt\;">OPT/STEM status&nbsp\;</span></span></span></span><br />\n<span style="direction:ltr\;unicode-bidi:embed\;"><span style="color:black\;"><span style="font-size:10.0pt\;"><span style="font-family:symbol\;">&middot\;</span></span></span></span>&nbsp\;<span style="language:en-US\;"><span style="color:black\;"><span style="font-family:calibri\;"><span style="font-size:12.0pt\;">Alternative work visa categories to the H-1B</span></span></span></span><br />\n&nbsp\;<br />\n<span style="font-weight:bold\;language:en-US\;"><span style="color:#DB4842\;"><span style="font-family:calibri\;"><span style="font-size:12.0pt\;">Open discussion</span></span></span></span><br />\n<span style="direction:ltr\;unicode-bidi:embed\;language:x-none\;"><span style="color:black\;"><span style="font-size:10.0pt\;"><span style="font-family:symbol\;">&middot\;</span></span></span></span>&nbsp\;<span style="language:en-US\;"><span style="color:black\;"><span style="font-family:calibri\;"><span style="font-size:12.0pt\;">Talk with peers to discuss challenges &amp\; best practices</span></span></span></span><br />\n<span style="direction:ltr\;unicode-bidi:embed\;language:x-none\;"><span style="color:black\;"><span style="font-size:10.0pt\;"><span style="font-family:symbol\;">&middot\;</span></span></span></span>&nbsp\;<span style="language:en-US\;"><span style="color:black\;"><span style="font-family:calibri\;"><span style="font-size:12.0pt\;">Ask for advice on current issues</span></span></span></span><br />\n&nbsp\;<br />\n&nbsp\;
LOCATION:zoom invitation will be sent to all registered attendees
UID:e.2083.13669
SEQUENCE:3
DTSTAMP:20260422T040345Z
URL:https://business.cmschamber.org/events/details/hr-roundtable-i9-compliance-13669
END:VEVENT

END:VCALENDAR
