BEGIN:VCALENDAR
VERSION:2.0
PRODID:-//ChamberMaster//Event Calendar 2.0//EN
METHOD:PUBLISH
X-PUBLISHED-TTL:P3D
REFRESH-INTERVAL:P3D
CALSCALE:GREGORIAN
BEGIN:VEVENT
DTSTART:20220426T140000Z
DTEND:20220426T150000Z
X-MICROSOFT-CDO-ALLDAYEVENT:FALSE
SUMMARY:HR Roundtable: Substance Abuse/Mental Health resources for HR professionals
DESCRIPTION:This session will discuss how to improve productivity of employees with increasing mental health and substance abuse in the workplace. Nearly 75% of people struggling with SUD have active employment. This places strain on HR and EAP's. We will offer solutions to the isolation with the pandemic and promoting self-care of their employees.\n\n \n\nIn addition the presentation will cover new statistics and how to improve productivity and increase available resources to struggling employees.\n\n \n\nMany HR departments are seeing an increase of mental health/substance abuse in the workplace. This session will provide resources and updated information so that attendees can get their struggling employees the help they need\, rather than onboard a new person that costs so much more money.\n\n\n\nAbout the presenters: \n\nRaymond Marsh \, Community Business Development Representative\, Evolve Recovery Center
X-ALT-DESC;FMTTYPE=text/html:This session will discuss how to improve productivity of employees with increasing mental health and substance abuse in the workplace. Nearly 75% of people struggling with SUD have active employment. This places strain on HR and EAP&rsquo\;s. We will offer solutions to the isolation with the pandemic and promoting self-care of their employees.<br />\n&nbsp\;<br />\nIn addition the presentation will cover new statistics and how to improve productivity and increase available resources to struggling employees.<br />\n&nbsp\;<br />\nMany HR departments are seeing an increase of mental health/substance abuse in the workplace. This session will provide resources and updated information so that attendees can get their struggling employees the help they need\, rather than onboard a new person that costs so much more money.<br />\n<br />\nAbout the presenters:&nbsp\;<br />\nRaymond&nbsp\;Marsh&#8203\;\, Community&nbsp\;Business&nbsp\;Development&nbsp\;Representative\, Evolve Recovery Center
LOCATION:
UID:e.2083.13668
SEQUENCE:3
DTSTAMP:20260421T232001Z
URL:https://business.cmschamber.org/events/details/hr-roundtable-substance-abuse-mental-health-resources-for-hr-professionals-13668
END:VEVENT

END:VCALENDAR
