BEGIN:VCALENDAR
VERSION:2.0
PRODID:-//ChamberMaster//Event Calendar 2.0//EN
METHOD:PUBLISH
X-PUBLISHED-TTL:P3D
REFRESH-INTERVAL:P3D
CALSCALE:GREGORIAN
BEGIN:VEVENT
DTSTART:20220929T130000Z
DTEND:20220930T210000Z
X-MICROSOFT-CDO-ALLDAYEVENT:FALSE
SUMMARY:HSE360 Summit 2022
DESCRIPTION:HSE360 2022 will provide participants with a platform for information exchange and networking with experts from all across the world. The attendees will be presented with a number of sessions on today's current issues and trends.
X-ALT-DESC;FMTTYPE=text/html:HSE360 2022 will provide participants with a platform for information exchange and networking with experts from all across the world. The attendees will be presented with a number of sessions on today&rsquo\;s current issues and trends.
LOCATION:Online Event
UID:e.2083.13931
SEQUENCE:3
DTSTAMP:20260421T171258Z
URL:https://business.cmschamber.org/events/details/hse360-summit-2022-13931
END:VEVENT

END:VCALENDAR
