BEGIN:VCALENDAR
VERSION:2.0
PRODID:-//ChamberMaster//Event Calendar 2.0//EN
METHOD:PUBLISH
X-PUBLISHED-TTL:P3D
REFRESH-INTERVAL:P3D
CALSCALE:GREGORIAN
BEGIN:VEVENT
DTSTART:20240220T130000Z
DTEND:20240220T170000Z
X-MICROSOFT-CDO-ALLDAYEVENT:FALSE
SUMMARY:I- Grow Leadership Workshop 2024
DESCRIPTION:Registration is Now Open\n\n\n\nWhat a way to begin the new month! I am excited to bring the first annual I-Grow leadership workshop to Worcester!\n\n\n\nIf you are an entrepreneur or small business owner or just looking to up-level your leadership\, this workshop is for you!\n\n\n\nI have partnered with some amazing friends who can't wait to share their knowledge and expertise with you. Thanks to Dave Wood\, Dr. Amanda Romine-Nelson\, PharmD\, RPh\, and Kim Walker for participating in this transformational event.
X-ALT-DESC;FMTTYPE=text/html:Registration is Now Open<br />\n<br />\nWhat a way to begin the new month! I am excited to bring the first annual I-Grow leadership workshop to Worcester!<br />\n<br />\nIf you are an entrepreneur or small business owner or just looking to up-level your leadership\, this workshop is for you!<br />\n<br />\nI have partnered with some amazing friends who can&#39\;t wait to share their knowledge and expertise with you. Thanks to Dave Wood\, Dr. Amanda Romine-Nelson\, PharmD\, RPh\, and Kim Walker for participating in this transformational event.
LOCATION:1 Washington Sq Worcester\, MA 01604
UID:e.2083.17116
SEQUENCE:3
DTSTAMP:20260420T102522Z
URL:https://business.cmschamber.org/events/details/i-grow-leadership-workshop-2024-17116
END:VEVENT

END:VCALENDAR
