BEGIN:VCALENDAR
VERSION:2.0
PRODID:-//ChamberMaster//Event Calendar 2.0//EN
METHOD:PUBLISH
X-PUBLISHED-TTL:P3D
REFRESH-INTERVAL:P3D
CALSCALE:GREGORIAN
BEGIN:VEVENT
DTSTART:20240123T170000Z
DTEND:20240123T174500Z
X-MICROSOFT-CDO-ALLDAYEVENT:FALSE
SUMMARY:Inclusive Leadership for the Modern workplace
DESCRIPTION:Inclusive Leadership for the Modern Workplace \n\n\n\nIf you would you like to understand and be able to implement an inclusive leadership style in your organization... This session is for you.\n\n1. Understand the importance of inclusive leadership capabilities at all levels of the organization.\n\n2. Move away from "check the box" training initiatives and into sustainable practices.\n\n3. Recognize the attributes of the modern workplace and create leadership programs that support high performance and retention.\n\nJoin us and ask us any questions you'd like !
X-ALT-DESC;FMTTYPE=text/html:<div>\n<h1>Inclusive Leadership for the Modern Workplace&nbsp\;</h1>\n</div>\n\n<div>\n<p>If you would you like to understand and be able to implement an inclusive leadership style in your organization... This session is for you.</p>\n\n<p>1. Understand the importance of inclusive leadership capabilities at all levels of the organization.</p>\n\n<p>2. Move away from &ldquo\;check the box&rdquo\; training initiatives and into sustainable practices.</p>\n\n<p>3. Recognize the attributes of the modern workplace and create leadership programs that support high performance and retention.</p>\n\n<p>Join us and ask us any questions you&#39\;d like !</p>\n</div>\n
LOCATION:zoom
UID:e.2083.17204
SEQUENCE:3
DTSTAMP:20260420T121658Z
URL:https://business.cmschamber.org/events/details/inclusive-leadership-for-the-modern-workplace-17204
END:VEVENT

END:VCALENDAR
