BEGIN:VCALENDAR
VERSION:2.0
PRODID:-//ChamberMaster//Event Calendar 2.0//EN
METHOD:PUBLISH
X-PUBLISHED-TTL:P3D
REFRESH-INTERVAL:P3D
CALSCALE:GREGORIAN
BEGIN:VEVENT
DTSTART:20200213T150000Z
DTEND:20200213T163000Z
X-MICROSOFT-CDO-ALLDAYEVENT:FALSE
SUMMARY:Information Session on the Workforce Training Fund and QCC Soft Skills Workshops
DESCRIPTION:Join us for information on the MA Workforce Training Fund\, the Direct Access for Small Business Grant and QCC's Spring Soft Skills Workshops.\n\n\n\nLearn how to access your training dollars on the MA Training Exchange to keep your workforce competitive and working for you!
X-ALT-DESC;FMTTYPE=text/html:Join us for information on the MA Workforce Training Fund\, the Direct Access for Small Business Grant and QCC&#39\;s Spring Soft Skills Workshops.<br />\n<br />\nLearn how to access your training dollars on the MA Training Exchange to keep your workforce competitive and working for you!
LOCATION:The Central MA South Chamber of Commerce 46 Hall Road\, #1279 Sturbridge\, MA 01566
UID:e.2083.11771
SEQUENCE:3
DTSTAMP:20260423T161910Z
URL:https://business.cmschamber.org/events/details/information-session-on-the-workforce-training-fund-and-qcc-soft-skills-workshops-11771
END:VEVENT

END:VCALENDAR
