BEGIN:VCALENDAR
VERSION:2.0
PRODID:-//ChamberMaster//Event Calendar 2.0//EN
METHOD:PUBLISH
X-PUBLISHED-TTL:P3D
REFRESH-INTERVAL:P3D
CALSCALE:GREGORIAN
BEGIN:VEVENT
DTSTART:20230320T213000Z
DTEND:20230320T233000Z
X-MICROSOFT-CDO-ALLDAYEVENT:FALSE
SUMMARY:Instagram for Business
DESCRIPTION:Are you ready to take your business onto Instagram for better marketing and sales? Join Julia Becker Collins\, COO at Vision Advertising\, as she covers everything you need to know about using the heavily visual platform for business. From setting up your business account to capitalizing on engagement with your customer base\, Julia will walk you through the beginning steps and the ongoing maintenance that's required to get the most out of Instagram!\n\nIn this interactive workshop\, Julia will:\n\n\n	Provide an introduction to Instagram\n	Review the set-up processes for personal vs. business pages\n	Explain the difference between a creator account and business account\n	Give an overview of Instagram's different features (posts\, stories\, reels\, IGTV\, lives)\n	Share platform-specific tips and tricks
X-ALT-DESC;FMTTYPE=text/html:<p>Are you ready to take your business onto Instagram for better marketing and sales? Join Julia Becker Collins\, COO at Vision Advertising\, as she covers everything you need to know about using the heavily visual platform for business. From setting up your business account to capitalizing on engagement with your customer base\, Julia will walk you through the beginning steps and the ongoing maintenance that&rsquo\;s required to get the most out of Instagram!</p>\n\n<p>In this interactive workshop\, Julia will:</p>\n\n<ul>\n	<li>Provide an introduction to Instagram</li>\n	<li>Review the set-up processes for personal vs. business pages</li>\n	<li>Explain the difference between a creator account and business account</li>\n	<li>Give an overview of Instagram&rsquo\;s different features (posts\, stories\, reels\, IGTV\, lives)</li>\n	<li>Share platform-specific tips and tricks</li>\n</ul>\n
LOCATION:WorcLab 44 Portland St\, Worcester MA 01608
UID:e.2083.15448
SEQUENCE:3
DTSTAMP:20260421T055602Z
URL:https://business.cmschamber.org/events/details/instagram-for-business-15448
END:VEVENT

END:VCALENDAR
