BEGIN:VCALENDAR
VERSION:2.0
PRODID:-//ChamberMaster//Event Calendar 2.0//EN
METHOD:PUBLISH
X-PUBLISHED-TTL:P3D
REFRESH-INTERVAL:P3D
CALSCALE:GREGORIAN
BEGIN:VEVENT
DTSTART:20221117T150000Z
DTEND:20221117T160000Z
X-MICROSOFT-CDO-ALLDAYEVENT:FALSE
SUMMARY:Insure Your Business With Confidence
DESCRIPTION:As a business owner you want to make sure that you and your business are protected should an unforseen circumstances arise. In this webinar we will talk through: \n\n How to Find the Right Insurance Agent\n\n Business Insurance Prerequisites\n\n Business Insurance Basics\n\n Additional Coverages to Consider\n\n Ways to Save
X-ALT-DESC;FMTTYPE=text/html:<p>As a business owner you want to make sure that you and your business are protected should an unforseen circumstances arise. In this webinar we will talk through:&nbsp\;</p>\n\n<div>&ndash\;How to Find the Right Insurance Agent</div>\n\n<div>&ndash\;Business Insurance Prerequisites</div>\n\n<div>&ndash\;Business Insurance Basics</div>\n\n<div>&ndash\;Additional Coverages to Consider</div>\n\n<div>&ndash\;Ways to Save</div>\n
LOCATION:Zoom
UID:e.2083.14850
SEQUENCE:3
DTSTAMP:20260421T130040Z
URL:https://business.cmschamber.org/events/details/insure-your-business-with-confidence-11-17-2022-14850
END:VEVENT

END:VCALENDAR
