BEGIN:VCALENDAR
VERSION:2.0
PRODID:-//ChamberMaster//Event Calendar 2.0//EN
METHOD:PUBLISH
X-PUBLISHED-TTL:P3D
REFRESH-INTERVAL:P3D
CALSCALE:GREGORIAN
BEGIN:VEVENT
DTSTART:20231111T160000Z
DTEND:20231111T200000Z
X-MICROSOFT-CDO-ALLDAYEVENT:FALSE
SUMMARY:International Food Festival
DESCRIPTION:
X-ALT-DESC;FMTTYPE=text/html:
LOCATION:30 Tyler Prentice Rd. Worcester\, MA 01605
UID:e.2083.16665
SEQUENCE:3
DTSTAMP:20260420T154252Z
URL:https://business.cmschamber.org/events/details/international-food-festival-16665
END:VEVENT

END:VCALENDAR
