BEGIN:VCALENDAR
VERSION:2.0
PRODID:-//ChamberMaster//Event Calendar 2.0//EN
METHOD:PUBLISH
X-PUBLISHED-TTL:P3D
REFRESH-INTERVAL:P3D
CALSCALE:GREGORIAN
BEGIN:VEVENT
DTSTART:20200522T180000Z
DTEND:20200522T190000Z
X-MICROSOFT-CDO-ALLDAYEVENT:FALSE
SUMMARY:InThink Webinar Series
DESCRIPTION:InThink will be having Joe Warrino and Sandy Knight from Modern Business Solutions\, joining us. Now that we have transitioned to a virtual format\, how can we empower our remote team? Joe and Sandy will share unique tips on how to use Microsoft Power Platform to modernize collaboration! Webinar's Agenda: -Who we are (Modern Business Solutions) -Microsoft Power Platform Overview -Business and IT Challenges   normal issues and new issues due to COVID-19 -Empowering Remote Workers -Case Studies -Q&A
X-ALT-DESC;FMTTYPE=text/html:InThink will be having Joe Warrino and Sandy Knight from Modern Business Solutions\, joining us. Now that we have transitioned to a virtual format\, how can we empower our remote team? Joe and Sandy will share unique tips on how to use Microsoft Power Platform to modernize collaboration! Webinar&#39\;s Agenda: -Who we are (Modern Business Solutions) -Microsoft Power Platform Overview -Business and IT Challenges &ndash\; normal issues and new issues due to COVID-19 -Empowering Remote Workers -Case Studies -Q&amp\;A
LOCATION:Virtual | Zoom
UID:e.2083.12138
SEQUENCE:3
DTSTAMP:20260423T100530Z
URL:https://business.cmschamber.org/events/details/inthink-webinar-series-12138
END:VEVENT

END:VCALENDAR
