BEGIN:VCALENDAR
VERSION:2.0
PRODID:-//ChamberMaster//Event Calendar 2.0//EN
METHOD:PUBLISH
X-PUBLISHED-TTL:P3D
REFRESH-INTERVAL:P3D
CALSCALE:GREGORIAN
BEGIN:VEVENT
DTSTART:20200508T180000Z
DTEND:20200508T190000Z
X-MICROSOFT-CDO-ALLDAYEVENT:FALSE
SUMMARY:InThink Webinar Series: Running Your Business in Quarantine
DESCRIPTION:Join CEO\, Kham Inthirath\, as he discusses how your business can strategically position itself in the wake of COVID-19. Next up\, we have Joe Cundall\, a consultant from The Cornerstone Group\, joining us. How can we align our business strategy with our people strategy to get optimal business results? Joe will introduce Predictive Index (PI) and discuss how it can help solve common types of businesses issues. Moving to a completely virtual world can be overwhelming for many businesses and pose the question - how do I make my team successful now? Join us to find out!
X-ALT-DESC;FMTTYPE=text/html:Join CEO\, Kham Inthirath\, as he discusses how your business can strategically position itself in the wake of COVID-19. Next up\, we have Joe Cundall\, a consultant from The Cornerstone Group\, joining us. How can we align our business strategy with our people strategy to get optimal business results? Joe will introduce Predictive Index (PI) and discuss how it can help solve common types of businesses issues. Moving to a completely virtual world can be overwhelming for many businesses and pose the question - how do I make my team successful now? Join us to find out!
LOCATION:Zoom
UID:e.2083.12108
SEQUENCE:3
DTSTAMP:20260423T101158Z
URL:https://business.cmschamber.org/events/details/inthink-webinar-series-running-your-business-in-quarantine-05-08-2020-12108
END:VEVENT

END:VCALENDAR
