BEGIN:VCALENDAR
VERSION:2.0
PRODID:-//ChamberMaster//Event Calendar 2.0//EN
METHOD:PUBLISH
X-PUBLISHED-TTL:P3D
REFRESH-INTERVAL:P3D
CALSCALE:GREGORIAN
BEGIN:VEVENT
DTSTART:20231018T150000Z
DTEND:20231018T153000Z
X-MICROSOFT-CDO-ALLDAYEVENT:FALSE
SUMMARY:Introduction to ComputerVault Webinar
DESCRIPTION:Enjoy ultimate security and user experience with the partnership of ComputerVault's on premise cloud services and IGEL COSMOS\, the next gen endpoint OS platform.
X-ALT-DESC;FMTTYPE=text/html:<div><span style="background-color:rgb(255\, 255\, 255)\; color:rgb(35\, 35\, 51)\; font-family:helvetica neue\,helvetica\,arial\,sans-serif\; font-size:14px">Enjoy ultimate security and user experience with the partnership of ComputerVault&#39\;s on premise cloud services and IGEL COSMOS\, the next gen endpoint OS platform.</span></div>\n
LOCATION:https://igel.zoom.us/webinar/register/WN_uHqVcr6HRvyvrWl48qEzQg#/registration
UID:e.2083.16691
SEQUENCE:3
DTSTAMP:20260420T170719Z
URL:https://business.cmschamber.org/events/details/introduction-to-computervault-webinar-16691
END:VEVENT

END:VCALENDAR
