BEGIN:VCALENDAR
VERSION:2.0
PRODID:-//ChamberMaster//Event Calendar 2.0//EN
METHOD:PUBLISH
X-PUBLISHED-TTL:P3D
REFRESH-INTERVAL:P3D
CALSCALE:GREGORIAN
BEGIN:VEVENT
DTSTART:20230216T190000Z
DTEND:20230216T200000Z
X-MICROSOFT-CDO-ALLDAYEVENT:FALSE
SUMMARY:Investigations – the Good\, the Bad and the Ugly (14th Annual Employment Law Update)
DESCRIPTION:Why investigations are so important to an organization\n	How to conduct an effective investigation\n	Traps for the unwary when it comes to employment investigations\n\n\nJoin us for the 14th Annual Law Update\, when we will look ahead at hot topics that HR professionals and senior administrators of your organization or campus need to know in 2023. Each webinar will cover different topics and include time for any questions that you may have (which can be pre-submitted on the registration form).\n\n\n\nPresented by Tim Van Dyck\, Brigid Harrington\, and Aimee Bierman
X-ALT-DESC;FMTTYPE=text/html:<ul>\n	<li>Why&nbsp\;investigations are so important to an organization</li>\n	<li>How to conduct an effective investigation</li>\n	<li>Traps for the unwary when it comes to employment investigations</li>\n</ul>\n\n<p>Join us for the 14th Annual Law Update\, when we will look ahead at hot topics that HR professionals and senior administrators of your organization or campus need to know in 2023. Each webinar will cover different topics and include time for any questions that you may have (which can be pre-submitted on the registration form).</p>\n\n<p><br />\nPresented by Tim Van Dyck\, Brigid Harrington\, and Aimee Bierman</p>\n
LOCATION:Webinar
UID:e.2083.14956
SEQUENCE:3
DTSTAMP:20260421T075408Z
URL:https://business.cmschamber.org/events/details/investigations-the-good-the-bad-and-the-ugly-14th-annual-employment-law-update-14956
END:VEVENT

END:VCALENDAR
